BEGIN:VCALENDAR
VERSION:2.0
CALSCALE:GREGORIAN
PRODID:adamgibbons/ics
METHOD:PUBLISH
X-PUBLISHED-TTL:PT1H
BEGIN:VEVENT
UID:306@events.karlsruhe-social.de
SUMMARY:Palantir als Baustein der autoritären Wende
DTSTAMP:20260422T141217Z
DTSTART:20260430T160000Z
DTEND:20260430T190000Z
URL:https://events.karlsruhe-social.de/event/palantir-als-baustein-der-auto
	ritaren-wende
LOCATION:Triangel - Kaiserstraße 93\, Karlsruhe 76133
STATUS:CONFIRMED
CATEGORIES:#KeepKarlsruheBoring,Anti-authoritarianism,Digital,Discussion,Po
	litics,Technology,Vortrag
END:VEVENT
BEGIN:VEVENT
UID:304@events.karlsruhe-social.de
SUMMARY:nach der Revolte – Lesung mit Penny Prinz
DTSTAMP:20260422T141217Z
DTSTART:20260522T170000Z
URL:https://events.karlsruhe-social.de/event/nach-der-revolte-lesung-mit-pe
	nny-prinz
LOCATION:Kulturhaus Mikado - Kanalweg 52\, 76149 Karlsruhe
STATUS:CONFIRMED
CATEGORIES:#KeepKarlsruheBoring,Aktivismus,ccc,grüne,hong kong,Karlsruhe,ka
	rlsruhe nordstadt,kulturhaus mikado,Lesung,mikado,nordstadt,palantir,penny
	 prinz,Politics,Technology,überwachung
END:VEVENT
END:VCALENDAR
