BEGIN:VCALENDAR
VERSION:2.0
CALSCALE:GREGORIAN
PRODID:adamgibbons/ics
METHOD:PUBLISH
X-PUBLISHED-TTL:PT1H
BEGIN:VEVENT
UID:297@events.karlsruhe-social.de
SUMMARY:Netz Flitz
DTSTAMP:20260421T200842Z
DTSTART:20260711T180000Z
DTEND:20260712T210000Z
URL:https://events.karlsruhe-social.de/event/netz-flitz
GEO:49.0135;8.35882
LOCATION:Kulturzentrum Tempel - Kulturverein Tempel e.V. im Kulturzentrum T
	empel Hardtstraße 37 A D-76185 Karlsruhe
STATUS:CONFIRMED
CATEGORIES:#KeepKarlsruheBoring,Dance,Tanz
END:VEVENT
END:VCALENDAR
