BEGIN:VCALENDAR
VERSION:2.0
CALSCALE:GREGORIAN
PRODID:adamgibbons/ics
METHOD:PUBLISH
X-PUBLISHED-TTL:PT1H
BEGIN:VEVENT
UID:282@events.karlsruhe-social.de
SUMMARY:Open Solitude [Open Doors at Akademie Schloss Solitude\, Stuttgart]
DTSTAMP:20260420T132415Z
DTSTART:20260627T120000Z
DTEND:20260627T200000Z
URL:https://events.karlsruhe-social.de/event/open-solitude-open-doors-at-ak
	ademie-schloss-solitude-stuttgart
GEO:48.7871;9.0834
LOCATION:Akademie Schloss Solitude [Stuttgart] - 3\, Solitude\, Solitude\, 
	Stuttgart\, Baden-Württemberg\, 70197\, Deutschland
STATUS:CONFIRMED
CATEGORIES:#KeepKarlsruheBoring,Art,Open Doors,Stuttgart
END:VEVENT
END:VCALENDAR
