BEGIN:VCALENDAR
VERSION:2.0
CALSCALE:GREGORIAN
PRODID:adamgibbons/ics
METHOD:PUBLISH
X-PUBLISHED-TTL:PT1H
BEGIN:VEVENT
UID:247@events.karlsruhe-social.de
SUMMARY:Überbündische Singerunde
DTSTAMP:20260425T032402Z
DTSTART:20260503T170000Z
URL:https://events.karlsruhe-social.de/event/uberbundische-singerunde-2
GEO:49.0112;8.41461
LOCATION:AKK - 17\, Engesserstraße\, Innenstadt-Ost Nordöstlicher Teil\, In
	nenstadt\, Karlsruhe\, Baden-Württemberg\, 76131\, Deutschland
STATUS:CONFIRMED
CATEGORIES:AKK,Singen
END:VEVENT
BEGIN:VEVENT
UID:313@events.karlsruhe-social.de
SUMMARY:Mitsingen | Kultur-Abend am Donnerstag
DTSTAMP:20260425T032402Z
DTSTART:20260507T160000Z
DTEND:20260507T180000Z
URL:https://events.karlsruhe-social.de/event/mitsingen-or-kultur-abend-am-d
	onnerstag-5
LOCATION:Kulturküche - Kaiserstraße 47\, 76131 Karlsruhe
STATUS:CONFIRMED
CATEGORIES:Begegnung,Mitmachen,Singen
END:VEVENT
END:VCALENDAR
