BEGIN:VCALENDAR
VERSION:2.0
CALSCALE:GREGORIAN
PRODID:adamgibbons/ics
METHOD:PUBLISH
X-PUBLISHED-TTL:PT1H
BEGIN:VEVENT
UID:195@events.karlsruhe-social.de
SUMMARY:Offene Rechtsberatung
DTSTAMP:20260425T032415Z
DTSTART:20260429T130000Z
DTEND:20260429T150000Z
URL:https://events.karlsruhe-social.de/event/offene-rechtsberatung-4
LOCATION:Kulturküche - Kaiserstraße 47\, 76131 Karlsruhe
STATUS:CONFIRMED
CATEGORIES:kostenfrei,Rechtsberatung
END:VEVENT
BEGIN:VEVENT
UID:196@events.karlsruhe-social.de
SUMMARY:Offene Rechtsberatung
DTSTAMP:20260425T032415Z
DTSTART:20260513T130000Z
DTEND:20260513T150000Z
URL:https://events.karlsruhe-social.de/event/offene-rechtsberatung-5
LOCATION:Kulturküche - Kaiserstraße 47\, 76131 Karlsruhe
STATUS:CONFIRMED
CATEGORIES:kostenfrei,Rechtsberatung
END:VEVENT
END:VCALENDAR
