BEGIN:VCALENDAR
VERSION:2.0
CALSCALE:GREGORIAN
PRODID:adamgibbons/ics
METHOD:PUBLISH
X-PUBLISHED-TTL:PT1H
BEGIN:VEVENT
UID:280@events.karlsruhe-social.de
SUMMARY:Ausstellungseröffnung CC Hennix: One Dark\, Two Darks
DTSTAMP:20260420T132137Z
DTSTART:20260709T170000Z
DTEND:20260709T200000Z
URL:https://events.karlsruhe-social.de/event/ausstellungseroffnung-cc-henni
	x-one-dark-two-darks
GEO:49.011;8.3999
LOCATION:Badischer Kunstverein - Waldstraße 3\, 76133 Karlsruhe
STATUS:CONFIRMED
CATEGORIES:#KeepKarlsruheBoring,Art,Opening
END:VEVENT
END:VCALENDAR
