BEGIN:VCALENDAR
VERSION:2.0
CALSCALE:GREGORIAN
PRODID:adamgibbons/ics
METHOD:PUBLISH
X-PUBLISHED-TTL:PT1H
BEGIN:VEVENT
UID:248@events.karlsruhe-social.de
SUMMARY:Reparatur-Café im AKK
DTSTAMP:20260425T032602Z
DTSTART:20260504T160000Z
URL:https://events.karlsruhe-social.de/event/reparatur-cafe-im-akk-2
GEO:49.0112;8.41461
LOCATION:AKK - 17\, Engesserstraße\, Innenstadt-Ost Nordöstlicher Teil\, In
	nenstadt\, Karlsruhe\, Baden-Württemberg\, 76131\, Deutschland
STATUS:CONFIRMED
CATEGORIES:AKK,DIY,Nachhaltigkeit,Reparatur
END:VEVENT
END:VCALENDAR
