BEGIN:VCALENDAR
VERSION:2.0
CALSCALE:GREGORIAN
PRODID:adamgibbons/ics
METHOD:PUBLISH
X-PUBLISHED-TTL:PT1H
BEGIN:VEVENT
UID:277@events.karlsruhe-social.de
SUMMARY:Kazkon
DTSTAMP:20260422T121012Z
DTSTART:20260919T120000Z
DTEND:20260919T170000Z
URL:https://events.karlsruhe-social.de/event/kazkon
GEO:49.0086;8.40919
LOCATION:Kronenplatz - Innenstadt-Ost\, Karlsruhe\, Baden-Württemberg\, 761
	33\, Deutschland
STATUS:CONFIRMED
CATEGORIES:#KeepKarlsruheBoring,Comic,Cosplay,Kids,Literatur,Manga,Science-
	Fiction
END:VEVENT
END:VCALENDAR
