BEGIN:VCALENDAR
VERSION:2.0
CALSCALE:GREGORIAN
PRODID:adamgibbons/ics
METHOD:PUBLISH
X-PUBLISHED-TTL:PT1H
BEGIN:VEVENT
UID:328@events.karlsruhe-social.de
SUMMARY:Algorithmic Listening Party w/ Epiploke
DTSTAMP:20260425T001933Z
DTSTART:20260430T160000Z
DTEND:20260430T210000Z
URL:https://events.karlsruhe-social.de/event/algorithmic-listening-party-wi
	th-epiploke
GEO:49.0063;8.40722
LOCATION:Entropia - Gewerbehof Steinstraße 23 76133 Karlsruhe
STATUS:CONFIRMED
CATEGORIES:#KeepKarlsruheBoring,algorithmic art,Dance,Fedika,live coding,Mu
	sic
END:VEVENT
BEGIN:VEVENT
UID:326@events.karlsruhe-social.de
SUMMARY:TAFA - Tanzen für alle
DTSTAMP:20260425T001933Z
DTSTART:20260501T163000Z
DTEND:20260501T180000Z
URL:https://events.karlsruhe-social.de/event/tafa-tanzen-fur-alle
LOCATION:Krille-Saal - Haizingerstraße 1\, 76131 Karlsruhe
STATUS:CONFIRMED
CATEGORIES:#KeepKarlsruheBoring,Fedika
END:VEVENT
BEGIN:VEVENT
UID:325@events.karlsruhe-social.de
SUMMARY:Queer Beratung – Offene Sprechstunde
DTSTAMP:20260425T001933Z
DTSTART:20260522T170000Z
DTEND:20260522T190000Z
URL:https://events.karlsruhe-social.de/event/queer-beratung-offene-sprechst
	unde
LOCATION:queerKAstle - Karlsruher Zentrum für queere Vielfalt - Liebigstraß
	e 10-12\, 76135 Karlsruhe
STATUS:CONFIRMED
CATEGORIES:#KeepKarlsruheBoring,Fedika
END:VEVENT
BEGIN:VEVENT
UID:323@events.karlsruhe-social.de
SUMMARY:Critical Mass Karlsruhe
DTSTAMP:20260425T001933Z
DTSTART:20260529T160000Z
URL:https://events.karlsruhe-social.de/event/critical-mass-karlsruhe
GEO:49.0086;8.40919
LOCATION:Kronenplatz - Innenstadt-Ost\, Karlsruhe\, Baden-Württemberg\, 761
	33\, Deutschland
STATUS:CONFIRMED
CATEGORIES:#KeepKarlsruheBoring,Fedika
END:VEVENT
BEGIN:VEVENT
UID:324@events.karlsruhe-social.de
SUMMARY:KOHI POETRY SLAM [8€ | Kohi Mitglieder ]
DTSTAMP:20260425T001933Z
DTSTART:20260529T180000Z
URL:https://events.karlsruhe-social.de/event/kohi-poetry-slam-8euro-or-kohi
	-mitglieder
GEO:49.0017;8.40754
LOCATION:Kohi - Werderstraße 47\, 76137 Karlsruhe\, Alemanya
STATUS:CONFIRMED
CATEGORIES:#KeepKarlsruheBoring,Fedika
END:VEVENT
END:VCALENDAR
