BEGIN:VCALENDAR
VERSION:2.0
CALSCALE:GREGORIAN
PRODID:adamgibbons/ics
METHOD:PUBLISH
X-PUBLISHED-TTL:PT1H
BEGIN:VEVENT
UID:300@events.karlsruhe-social.de
SUMMARY:FLINTA*-Schrauben
DTSTAMP:20260425T015818Z
DTSTART:20260428T150000Z
DTEND:20260428T180000Z
URL:https://events.karlsruhe-social.de/event/flinta-schrauben-8
GEO:49.0112;8.41461
LOCATION:AKK - 17\, Engesserstraße\, Innenstadt-Ost Nordöstlicher Teil\, In
	nenstadt\, Karlsruhe\, Baden-Württemberg\, 76131\, Deutschland
STATUS:CONFIRMED
CATEGORIES:Fahrrad,FLINTA*,Selbsthilfewerkstatt
END:VEVENT
END:VCALENDAR
