BEGIN:VCALENDAR
VERSION:2.0
CALSCALE:GREGORIAN
PRODID:adamgibbons/ics
METHOD:PUBLISH
X-PUBLISHED-TTL:PT1H
BEGIN:VEVENT
UID:321@events.karlsruhe-social.de
SUMMARY:12MIN.ME | KARLSRUHE | IGNITE 🔥 #012
DTSTAMP:20260424T182744Z
DTSTART:20260507T161500Z
DTEND:20260507T191500Z
URL:https://events.karlsruhe-social.de/event/12minme-or-karlsruhe-or-ignite
	-012
GEO:49.0015;8.38794
LOCATION:SteamWork - 23a\, Roonstraße\, Südweststadt Mittlerer Teil\, Südwe
	ststadt\, Karlsruhe\, Baden-Württemberg\, 76137\, Deutschland
STATUS:CONFIRMED
CATEGORIES:#KeepKarlsruheBoring,afterwork,Community,netzwerken,Technology
END:VEVENT
END:VCALENDAR
