BEGIN:VCALENDAR
VERSION:2.0
CALSCALE:GREGORIAN
PRODID:adamgibbons/ics
METHOD:PUBLISH
X-PUBLISHED-TTL:PT1H
BEGIN:VEVENT
UID:288@events.karlsruhe-social.de
SUMMARY:Fahrbare Radwerkstatt (MöWe)
DTSTAMP:20260420T142538Z
DTSTART:20260423T140000Z
URL:https://events.karlsruhe-social.de/event/fahrbare-radwerkstatt-mowe-9
GEO:49.0112;8.41461
LOCATION:AKK - 17\, Engesserstraße\, Innenstadt-Ost Nordöstlicher Teil\, In
	nenstadt\, Karlsruhe\, Baden-Württemberg\, 76131\, Deutschland
STATUS:CONFIRMED
CATEGORIES:#KeepKarlsruheBoring,Bike,DIY
END:VEVENT
END:VCALENDAR
