BEGIN:VCALENDAR
VERSION:2.0
CALSCALE:GREGORIAN
PRODID:adamgibbons/ics
METHOD:PUBLISH
X-PUBLISHED-TTL:PT1H
BEGIN:VEVENT
UID:289@events.karlsruhe-social.de
SUMMARY:Sechster Grötzinger Klimatag
DTSTAMP:20260425T015619Z
DTSTART:20260425T090000Z
DTEND:20260425T150000Z
URL:https://events.karlsruhe-social.de/event/sechster-grotzinger-klimatag
GEO:49.006;8.49678
LOCATION:Mühlstraße\, Karlsruhe-Grötzingen - Mühlstraße\, Karlsruhe
STATUS:CONFIRMED
CATEGORIES:Austausch,Begegnung,Klima
END:VEVENT
BEGIN:VEVENT
UID:227@events.karlsruhe-social.de
SUMMARY:Klima | Krisen | Utopien - Filmreihe
DTSTAMP:20260425T015619Z
DTSTART:20260429T170000Z
URL:https://events.karlsruhe-social.de/event/klima-or-krisen-or-utopien-fil
	mreihe-2
GEO:49.0106;8.39697
LOCATION:Kinemathek - 6\, Kaiserpassage\, Innenstadt-West Östlicher Teil\, 
	Innenstadt-West\, Karlsruhe\, Baden-Württemberg\, 76133\, Deutschland
STATUS:CONFIRMED
CATEGORIES:Austausch,Film,Kinemathek,Klimawandel
END:VEVENT
BEGIN:VEVENT
UID:315@events.karlsruhe-social.de
SUMMARY:Queerbeet - Kaffeeklatsch
DTSTAMP:20260425T015619Z
DTSTART:20260430T163000Z
DTEND:20260430T210000Z
URL:https://events.karlsruhe-social.de/event/queerbeet-kaffeeklatsch-20
LOCATION:Z10 - Zähringerstraße 10\, 76131 Karlsruhe
STATUS:CONFIRMED
CATEGORIES:Austausch,LGBTQIA+
END:VEVENT
BEGIN:VEVENT
UID:250@events.karlsruhe-social.de
SUMMARY:KüFa
DTSTAMP:20260425T015619Z
DTSTART:20260505T150000Z
URL:https://events.karlsruhe-social.de/event/kufa-4
LOCATION:Café Noir - Schauenburgstr. 5\, 76135 Karlsruhe
STATUS:CONFIRMED
CATEGORIES:Austausch,KüFa,Mitmachen,Vegan
END:VEVENT
BEGIN:VEVENT
UID:238@events.karlsruhe-social.de
SUMMARY:Handmade - der Handarbeitstreff
DTSTAMP:20260425T015619Z
DTSTART:20260506T140000Z
DTEND:20260506T160000Z
URL:https://events.karlsruhe-social.de/event/handmade-der-handarbeitstreff-
	3
LOCATION:Stadtbibliothek im neuen Ständehaus - Ständehausstraße 2\, 76137 K
	arlsruhe
STATUS:CONFIRMED
CATEGORIES:Austausch,Begegnung,DIY
END:VEVENT
BEGIN:VEVENT
UID:242@events.karlsruhe-social.de
SUMMARY:ADFC Fahrradstammtisch
DTSTAMP:20260425T015619Z
DTSTART:20260507T170000Z
URL:https://events.karlsruhe-social.de/event/adfc-fahrradstammtisch-5
LOCATION:Fahrradbüro - Welfenstraße 13\, 76137 Karlsruhe
STATUS:CONFIRMED
CATEGORIES:Austausch,Fahrrad,Stammtisch
END:VEVENT
BEGIN:VEVENT
UID:263@events.karlsruhe-social.de
SUMMARY:New(s)Views
DTSTAMP:20260425T015619Z
DTSTART:20260512T173000Z
DTEND:20260512T190000Z
URL:https://events.karlsruhe-social.de/event/newsviews-3
LOCATION:Amerikanische Bibliothek - Kanalweg 52\, 76149 Karlsruhe
STATUS:CONFIRMED
CATEGORIES:Austausch,Begegnung,Englisch
END:VEVENT
BEGIN:VEVENT
UID:254@events.karlsruhe-social.de
SUMMARY:trans*treff
DTSTAMP:20260425T015619Z
DTSTART:20260513T160000Z
DTEND:20260513T200000Z
URL:https://events.karlsruhe-social.de/event/transtreff-3
LOCATION:QueerKAstle - Liebigstraße 10-12 Karlsruhe\, 76135 Karlsruhe
STATUS:CONFIRMED
CATEGORIES:Austausch,Begegnung,QueerKAstle,trans
END:VEVENT
BEGIN:VEVENT
UID:253@events.karlsruhe-social.de
SUMMARY:MovieTalk
DTSTAMP:20260425T015619Z
DTSTART:20260513T163000Z
DTEND:20260513T180000Z
URL:https://events.karlsruhe-social.de/event/movietalk-3
LOCATION:Amerikanische Bibliothek - Kanalweg 52\, 76149 Karlsruhe
STATUS:CONFIRMED
CATEGORIES:Austausch,Englisch,Film
END:VEVENT
END:VCALENDAR
