BEGIN:VCALENDAR
VERSION:2.0
CALSCALE:GREGORIAN
PRODID:adamgibbons/ics
METHOD:PUBLISH
X-PUBLISHED-TTL:PT1H
BEGIN:VEVENT
UID:61@events.karlsruhe-social.de
SUMMARY:Lesung - Peter Wohlleben: "Bakterien - die heimlichen Helden"
DTSTAMP:20260425T015447Z
DTSTART:20260522T180000Z
URL:https://events.karlsruhe-social.de/event/lesung-peter-wohlleben-bakteri
	en-die-heimlichen-helden
LOCATION:Tollhaus - Alter Schlachthof 35\, 76131 Karlsruhe
STATUS:CONFIRMED
CATEGORIES:Lesung,Tollhaus
END:VEVENT
BEGIN:VEVENT
UID:66@events.karlsruhe-social.de
SUMMARY:Veranstaltung: Eine Bürgerversammlung (auf Deutsch)
DTSTAMP:20260425T015447Z
DTSTART:20260613T130000Z
URL:https://events.karlsruhe-social.de/event/veranstaltung-eine-burgerversa
	mmlung-auf-deutsch
LOCATION:Tollhaus - Alter Schlachthof 35\, 76131 Karlsruhe
STATUS:CONFIRMED
CATEGORIES:Begegnung,Mitmachen
END:VEVENT
BEGIN:VEVENT
UID:62@events.karlsruhe-social.de
SUMMARY:Lesung - Arne Semsrott: "Gegenmacht: Die Zivilgesellschaft schlägt 
	zurück"
DTSTAMP:20260425T015447Z
DTSTART:20261123T190000Z
URL:https://events.karlsruhe-social.de/event/lesung-arne-semsrott-gegenmach
	t-die-zivilgesellschaft-schlagt-zuruck
LOCATION:Tollhaus - Alter Schlachthof 35\, 76131 Karlsruhe
STATUS:CONFIRMED
CATEGORIES:Lesung
END:VEVENT
END:VCALENDAR
