BEGIN:VCALENDAR
VERSION:2.0
CALSCALE:GREGORIAN
PRODID:adamgibbons/ics
METHOD:PUBLISH
X-PUBLISHED-TTL:PT1H
BEGIN:VEVENT
UID:326@events.karlsruhe-social.de
SUMMARY:TAFA - Tanzen für alle
DTSTAMP:20260425T002056Z
DTSTART:20260501T163000Z
DTEND:20260501T180000Z
URL:https://events.karlsruhe-social.de/event/tafa-tanzen-fur-alle
LOCATION:Krille-Saal - Haizingerstraße 1\, 76131 Karlsruhe
STATUS:CONFIRMED
CATEGORIES:#KeepKarlsruheBoring,Fedika
END:VEVENT
END:VCALENDAR
