BEGIN:VCALENDAR
VERSION:2.0
CALSCALE:GREGORIAN
PRODID:adamgibbons/ics
METHOD:PUBLISH
X-PUBLISHED-TTL:PT1H
BEGIN:VEVENT
UID:318@events.karlsruhe-social.de
SUMMARY:Gruppentreffen DFG-VK Karlsruhe
DTSTAMP:20260424T045622Z
DTSTART:20260430T163000Z
DTEND:20260430T180000Z
URL:https://events.karlsruhe-social.de/event/gruppentreffen-dfg-vk-karlsruh
	e
GEO:49.0102;8.40746
LOCATION:Umweltzentrum Karlsruhe - 6\, Kronenstraße\, Innenstadt-Ost Nordös
	tlicher Teil\, Innenstadt-Ost\, Karlsruhe\, Baden-Württemberg\, 76133\, De
	utschland
STATUS:CONFIRMED
CATEGORIES:#KeepKarlsruheBoring
END:VEVENT
END:VCALENDAR
