BEGIN:VCALENDAR
VERSION:2.0
CALSCALE:GREGORIAN
PRODID:adamgibbons/ics
METHOD:PUBLISH
X-PUBLISHED-TTL:PT1H
BEGIN:VEVENT
UID:312@events.karlsruhe-social.de
SUMMARY:DOUBLE TAKE | Künstlerinnengespräch Hanna Woll & Anika Hirt
DTSTAMP:20260424T045332Z
DTSTART:20260507T150000Z
DTEND:20260507T170000Z
URL:https://events.karlsruhe-social.de/event/double-take-or-kunstlerinnenge
	sprach-hanna-woll-and-anika-hirt
GEO:49.0079;8.41049
LOCATION:GEDOK Künstlerinnenforum - Markgrafenstr. 14\, 76131 Karlsruhe
STATUS:CONFIRMED
CATEGORIES:#KeepKarlsruheBoring,Art
END:VEVENT
END:VCALENDAR
