BEGIN:VCALENDAR
VERSION:2.0
CALSCALE:GREGORIAN
PRODID:adamgibbons/ics
METHOD:PUBLISH
X-PUBLISHED-TTL:PT1H
BEGIN:VEVENT
UID:303@events.karlsruhe-social.de
SUMMARY:Modern/Contemporary für Mittelstufe & Fortgeschrittene ab 14. April
DTSTAMP:20260422T025756Z
DTSTART:20260428T180000Z
DTEND:20260428T193000Z
URL:https://events.karlsruhe-social.de/event/moderncontemporary-fur-mittels
	tufe-and-fortgeschrittene-ab-14-april
GEO:48.9951;8.34452
LOCATION:Tanzloft - 159\, Durmersheimer Straße\, Alte Heidenstückersiedlung
	\, Grünwinkel\, Karlsruhe\, Baden-Württemberg\, 76189\, Deutschland
STATUS:CONFIRMED
CATEGORIES:#KeepKarlsruheBoring
END:VEVENT
END:VCALENDAR
