BEGIN:VCALENDAR
VERSION:2.0
CALSCALE:GREGORIAN
PRODID:adamgibbons/ics
METHOD:PUBLISH
X-PUBLISHED-TTL:PT1H
BEGIN:VEVENT
UID:290@events.karlsruhe-social.de
SUMMARY:Offenes Plenum der Offene Werkstatt Karlsruhe
DTSTAMP:20260421T003515Z
DTSTART:20260427T163000Z
DTEND:20260427T183000Z
URL:https://events.karlsruhe-social.de/event/offenes-plenum-der-offene-werk
	statt-karlsruhe
GEO:48.989;8.37185
LOCATION:Offene Werkstatt Karlsruhe - Offene Werkstatt Karlsruhe\, Schauenb
	urgstraße 5\, 76135 Karlsruhe
STATUS:CONFIRMED
CATEGORIES:#KeepKarlsruheBoring
END:VEVENT
END:VCALENDAR
