BEGIN:VCALENDAR
VERSION:2.0
CALSCALE:GREGORIAN
PRODID:adamgibbons/ics
METHOD:PUBLISH
X-PUBLISHED-TTL:PT1H
BEGIN:VEVENT
UID:291@events.karlsruhe-social.de
SUMMARY:queerStammtisch
DTSTAMP:20260421T003826Z
DTSTART:20260520T160000Z
DTEND:20260520T200000Z
URL:https://events.karlsruhe-social.de/event/queerstammtisch
GEO:49.0107;8.40292
LOCATION:Mauritius - 19\, Schlossplatz\, Innenstadt-West Östlicher Teil\, I
	nnenstadt-West\, Karlsruhe\, Baden-Württemberg\, 76131\, Deutschland
STATUS:CONFIRMED
CATEGORIES:#KeepKarlsruheBoring
END:VEVENT
END:VCALENDAR
