BEGIN:VCALENDAR
VERSION:2.0
CALSCALE:GREGORIAN
PRODID:adamgibbons/ics
METHOD:PUBLISH
X-PUBLISHED-TTL:PT1H
BEGIN:VEVENT
UID:283@events.karlsruhe-social.de
SUMMARY:Modern Basic 9-Wochen-Kurs für Einsteiger & Anfänger ab 12. März
DTSTAMP:20260420T143137Z
DTSTART:20260430T150000Z
DTEND:20260430T160000Z
URL:https://events.karlsruhe-social.de/event/modern-basic-9-wochen-kurs-fur
	-einsteiger-and-anfanger-ab-12-marz
GEO:49.0094;8.39322
LOCATION:Tanzando - Douglasstr. 24/26\, 76133 Karlsruhe
STATUS:CONFIRMED
CATEGORIES:#KeepKarlsruheBoring
END:VEVENT
END:VCALENDAR
