BEGIN:VCALENDAR
VERSION:2.0
CALSCALE:GREGORIAN
PRODID:adamgibbons/ics
METHOD:PUBLISH
X-PUBLISHED-TTL:PT1H
BEGIN:VEVENT
UID:182@events.karlsruhe-social.de
SUMMARY:Hofflohmarkt Bulach
DTSTAMP:20260425T032242Z
DTSTART:20260426T110000Z
DTEND:20260426T150000Z
URL:https://events.karlsruhe-social.de/event/hofflohmarkt-bulach
LOCATION:Bulach - Bulach
STATUS:CONFIRMED
CATEGORIES:Flohmarkt
END:VEVENT
BEGIN:VEVENT
UID:183@events.karlsruhe-social.de
SUMMARY:Hofflohmarkt Bulach
DTSTAMP:20260425T032242Z
DTSTART:20260927T110000Z
DTEND:20260927T150000Z
URL:https://events.karlsruhe-social.de/event/hofflohmarkt-bulach-1
LOCATION:Bulach - Bulach
STATUS:CONFIRMED
CATEGORIES:Flohmarkt
END:VEVENT
END:VCALENDAR
