BEGIN:VCALENDAR
VERSION:2.0
CALSCALE:GREGORIAN
PRODID:adamgibbons/ics
METHOD:PUBLISH
X-PUBLISHED-TTL:PT1H
BEGIN:VEVENT
UID:178@events.karlsruhe-social.de
SUMMARY:Großflohmarkt Messplatz
DTSTAMP:20260425T032243Z
DTSTART:20260620T060000Z
DTEND:20260620T130000Z
URL:https://events.karlsruhe-social.de/event/grossflohmarkt-messplatz-1
LOCATION:Messplatz - Durlacher Allee 66\, 76137 Karlsruhe
STATUS:CONFIRMED
CATEGORIES:Flohmarkt
END:VEVENT
BEGIN:VEVENT
UID:179@events.karlsruhe-social.de
SUMMARY:Großflohmarkt Messplatz
DTSTAMP:20260425T032243Z
DTSTART:20260718T060000Z
DTEND:20260718T130000Z
URL:https://events.karlsruhe-social.de/event/grossflohmarkt-messplatz-2
LOCATION:Messplatz - Durlacher Allee 66\, 76137 Karlsruhe
STATUS:CONFIRMED
CATEGORIES:Flohmarkt
END:VEVENT
BEGIN:VEVENT
UID:180@events.karlsruhe-social.de
SUMMARY:Großflohmarkt Messplatz
DTSTAMP:20260425T032243Z
DTSTART:20260912T060000Z
DTEND:20260912T130000Z
URL:https://events.karlsruhe-social.de/event/grossflohmarkt-messplatz-3
LOCATION:Messplatz - Durlacher Allee 66\, 76137 Karlsruhe
STATUS:CONFIRMED
CATEGORIES:Flohmarkt
END:VEVENT
END:VCALENDAR
