BEGIN:VCALENDAR
VERSION:2.0
CALSCALE:GREGORIAN
PRODID:adamgibbons/ics
METHOD:PUBLISH
X-PUBLISHED-TTL:PT1H
BEGIN:VEVENT
UID:174@events.karlsruhe-social.de
SUMMARY:Flohmarkt Hochschule Karlsruhe
DTSTAMP:20260425T032242Z
DTSTART:20260523T060000Z
DTEND:20260523T140000Z
URL:https://events.karlsruhe-social.de/event/flohmarkt-hochschule-karlsruhe
LOCATION:Waldparkplatz - Willy-Andreas-Allee\, 76131 Karlsruhe
STATUS:CONFIRMED
CATEGORIES:Flohmarkt
END:VEVENT
BEGIN:VEVENT
UID:175@events.karlsruhe-social.de
SUMMARY:Flohmarkt Hochschule Karlsruhe
DTSTAMP:20260425T032242Z
DTSTART:20260711T060000Z
DTEND:20260711T140000Z
URL:https://events.karlsruhe-social.de/event/flohmarkt-hochschule-karlsruhe
	-1
LOCATION:Waldparkplatz - Willy-Andreas-Allee\, 76131 Karlsruhe
STATUS:CONFIRMED
CATEGORIES:Flohmarkt
END:VEVENT
BEGIN:VEVENT
UID:176@events.karlsruhe-social.de
SUMMARY:Flohmarkt Hochschule Karlsruhe
DTSTAMP:20260425T032242Z
DTSTART:20261010T060000Z
DTEND:20261010T140000Z
URL:https://events.karlsruhe-social.de/event/flohmarkt-hochschule-karlsruhe
	-2
LOCATION:Waldparkplatz - Willy-Andreas-Allee\, 76131 Karlsruhe
STATUS:CONFIRMED
CATEGORIES:Flohmarkt
END:VEVENT
END:VCALENDAR
