BEGIN:VCALENDAR
VERSION:2.0
CALSCALE:GREGORIAN
PRODID:adamgibbons/ics
METHOD:PUBLISH
X-PUBLISHED-TTL:PT1H
BEGIN:VEVENT
UID:293@events.karlsruhe-social.de
SUMMARY:Speakeasy Cinema (Coctails + Film)
DTSTAMP:20260425T004221Z
DTSTART:20260427T160000Z
DTEND:20260427T210000Z
URL:https://events.karlsruhe-social.de/event/speakeasy-cinema-coctails-film
	-8
GEO:49.0106;8.39697
LOCATION:Kinemathek - 6\, Kaiserpassage\, Innenstadt-West Östlicher Teil\, 
	Innenstadt-West\, Karlsruhe\, Baden-Württemberg\, 76133\, Deutschland
STATUS:CONFIRMED
CATEGORIES:Film,Kinemathek
END:VEVENT
BEGIN:VEVENT
UID:227@events.karlsruhe-social.de
SUMMARY:Klima | Krisen | Utopien - Filmreihe
DTSTAMP:20260425T004221Z
DTSTART:20260429T170000Z
URL:https://events.karlsruhe-social.de/event/klima-or-krisen-or-utopien-fil
	mreihe-2
GEO:49.0106;8.39697
LOCATION:Kinemathek - 6\, Kaiserpassage\, Innenstadt-West Östlicher Teil\, 
	Innenstadt-West\, Karlsruhe\, Baden-Württemberg\, 76133\, Deutschland
STATUS:CONFIRMED
CATEGORIES:Austausch,Film,Kinemathek,Klimawandel
END:VEVENT
BEGIN:VEVENT
UID:140@events.karlsruhe-social.de
SUMMARY:Maschenkino - "22 Bahnen"
DTSTAMP:20260425T004221Z
DTSTART:20260509T150000Z
URL:https://events.karlsruhe-social.de/event/maschenkino-22-bahnen
GEO:49.0106;8.39697
LOCATION:Kinemathek - 6\, Kaiserpassage\, Innenstadt-West Östlicher Teil\, 
	Innenstadt-West\, Karlsruhe\, Baden-Württemberg\, 76133\, Deutschland
STATUS:CONFIRMED
CATEGORIES:DIY,Kinemathek
END:VEVENT
END:VCALENDAR
