BEGIN:VCALENDAR
VERSION:2.0
CALSCALE:GREGORIAN
PRODID:adamgibbons/ics
METHOD:PUBLISH
X-PUBLISHED-TTL:PT1H
BEGIN:VEVENT
UID:319@events.karlsruhe-social.de
SUMMARY:Widerstands-Kollektiv - offenes Plenum
DTSTAMP:20260424T034247Z
DTSTART:20260507T170000Z
DTEND:20260507T190000Z
DESCRIPTION:offenes Plenum des Widerstands-Kollektiv Karlsruhe\n\n\n\nab 19
	:00 vegane Küfa\, danach offenes Plenum\n\n\n\nZähringerstraße 10\, 1. OG\
	n\nEmail: karlsruhe@widerstands-kollektiv.org\n\n\n\nLinktree: https://lin
	ktr.ee/WiK_Karlsruhe [https://linktr.ee/WiK_Karlsruhe]
URL:https://events.karlsruhe-social.de/event/widerstands-kollektiv-offenes-
	plenum
LOCATION:Z10 - Zähringerstraße 10\, 76131 Karlsruhe
STATUS:CONFIRMED
CATEGORIES:#KeepKarlsruheBoring
X-ALT-DESC;FMTTYPE=text/html:<p>offenes Plenum des Widerstands-Kollektiv Ka
	rlsruhe</p><p></p><p>ab 19:00 vegane Küfa, danach offenes Plenum</p><p></p
	><p>Zähringerstraße 10, 1. OG</p><p>Email: karlsruhe@widerstands-kollektiv
	.org</p><p></p><p>Linktree: <a target="_blank" href="https://linktr.ee/WiK
	_Karlsruhe">https://linktr.ee/WiK_Karlsruhe</a></p>
BEGIN:VALARM
ACTION:DISPLAY
DESCRIPTION:Widerstands-Kollektiv - offenes Plenum
TRIGGER:-PT1H
END:VALARM
END:VEVENT
END:VCALENDAR
