BEGIN:VCALENDAR
VERSION:2.0
CALSCALE:GREGORIAN
PRODID:adamgibbons/ics
METHOD:PUBLISH
X-PUBLISHED-TTL:PT1H
BEGIN:VEVENT
UID:278@events.karlsruhe-social.de
SUMMARY:Was Bleibt II
DTSTAMP:20260420T114304Z
DTSTART:20260814T220000Z
DESCRIPTION:More Infos tba
URL:https://events.karlsruhe-social.de/event/was-bleibt-ii
LOCATION:P8 - Schauenburgstr. 5\, 76135 Karlsruhe
STATUS:CONFIRMED
CATEGORIES:#KeepKarlsruheBoring
X-ALT-DESC;FMTTYPE=text/html:<p>More Infos tba</p>
BEGIN:VALARM
ACTION:DISPLAY
DESCRIPTION:Was Bleibt II
TRIGGER:-PT1H
END:VALARM
END:VEVENT
END:VCALENDAR
