BEGIN:VCALENDAR
VERSION:2.0
CALSCALE:GREGORIAN
PRODID:adamgibbons/ics
METHOD:PUBLISH
X-PUBLISHED-TTL:PT1H
BEGIN:VEVENT
UID:305@events.karlsruhe-social.de
SUMMARY:Südstadtfestival: 30 Jahre Festival und 75 Jahre Stadtjugendausschu
	ss
DTSTAMP:20260422T130111Z
DTSTART:20260509T110000Z
DTEND:20260509T200000Z
DESCRIPTION:Am 9. Mai 2026 findet das Südstadtfestival in einem ganz besond
	eren Rahmen\nstatt: Du feierst gleich zwei Jubiläen – 30 Jahre Südstadtfes
	tival und 75 Jahre\nstja. Los geht’s von 13 bis 22 Uhr auf dem Gelände des
	 Horts Kinderinsel-Süd\n[https://stja.de/kinderinsel-sued/] in der Schütze
	nstraße 35 in Karlsruhe.\n\nFreu dich auf ein vielfältiges Programm für al
	le Altersgruppen. Auf der Bühne\nerwarten dich Tanzdarbietungen für Kinder
	\, Jugendliche und Erwachsene\,\nPräsentationen regionaler Musikschulen so
	wie Rap-Künstler aus Karlsruhe. Dazu\nkommen junge Gesangstalente aus der 
	Region.\n\nAm Abend kannst du Live-Musik aus Rock und Pop\, Jazz\, Soul\, 
	Funk und RnB\ngenießen und den Tag stimmungsvoll ausklingen lassen.\n\nAuc
	h für Familien ist einiges geboten: Dich erwarten unter anderem\nKindersch
	minken\, eine Hüpfburg und kreative Mitmachangebote. Außerdem laden\nzahlr
	eiche Stände mit Speisen und Getränken sowie gemütliche Aufenthaltsbereich
	e\nzum Verweilen ein.\n\nViele Mitmachaktionen werden von lokalen Einricht
	ungen und Initiativen für dich\ngestaltet. Mit dabei sind die Bürgergesell
	schaft Südstadt\, die Nehemia\nInitiative mit dem Projekt Siebenstein\, da
	s Karlsruher Institut für Technologie\n(KIT)\, die Außenstelle Albschule B
	ISS\, der Soziale Dienst Mitte-Süd\, die\nSchulsozialarbeit\, das Startpun
	kt Elterncafé der Südstadt sowie eine Hüpfburg\nder Sparkasse Karlsruhe.\n
	\nOrganisiert wird das Südstadtfestival vom Kinder- und Jugendhaus Südstad
	t und\nder Kinderinsel-Süd des Stadtjugendausschuss e. V. Karlsruhe (stja)
	.\n\n„Das Festival ist seit vielen Jahren ein wichtiger Treffpunkt im Stad
	tteil – ein\nOrt\, an dem Begegnung\, Kultur und Gemeinschaft gelebt werde
	n“\, so die\nVeranstalter.\n\nLeonie Scheck\, Leiterin des Kinder- und Jug
	endhauses Südstadt\, und Franciska\nJukic\, Leiterin der Kinderinsel-Süd\,
	 laden dich herzlich zum Mitfeiern und\nGenießen ein. Der Eintritt ist fre
	i.\n\n
URL:https://events.karlsruhe-social.de/event/sudstadtfestival-30-jahre-fest
	ival-und-75-jahre-stadtjugendausschuss
GEO:49.0027;8.40711
LOCATION:Horts Kinderinsel-Süd - 35\, Schützenstraße\, Südstadt Nördlicher 
	Teil\, Südstadt\, Karlsruhe\, Baden-Württemberg\, 76137\, Deutschland
STATUS:CONFIRMED
CATEGORIES:#KeepKarlsruheBoring,Concert,Dance,Festival,Kids,Südstadt
X-ALT-DESC;FMTTYPE=text/html:<p>Am 9. Mai 2026 findet das Südstadtfestival 
	in einem ganz besonderen Rahmen statt: Du feierst gleich zwei Jubiläen – 3
	0 Jahre Südstadtfestival und 75 Jahre stja. Los geht’s von 13 bis 22 Uhr a
	uf dem Gelände des <a target="_blank" href="https://stja.de/kinderinsel-su
	ed/">Horts Kinderinsel-Süd</a> in der Schützenstraße 35 in Karlsruhe.</p><
	p>Freu dich auf ein vielfältiges Programm für alle Altersgruppen. Auf der 
	Bühne erwarten dich Tanzdarbietungen für Kinder, Jugendliche und Erwachsen
	e, Präsentationen regionaler Musikschulen sowie Rap-Künstler aus Karlsruhe
	. Dazu kommen junge Gesangstalente aus der Region.</p><p>Am Abend kannst d
	u Live-Musik aus Rock und Pop, Jazz, Soul, Funk und RnB genießen und den T
	ag stimmungsvoll ausklingen lassen.</p><p>Auch für Familien ist einiges ge
	boten: Dich erwarten unter anderem Kinderschminken, eine Hüpfburg und krea
	tive Mitmachangebote. Außerdem laden zahlreiche Stände mit Speisen und Get
	ränken sowie gemütliche Aufenthaltsbereiche zum Verweilen ein.</p><p>Viele
	 Mitmachaktionen werden von lokalen Einrichtungen und Initiativen für dich
	 gestaltet. Mit dabei sind die Bürgergesellschaft Südstadt, die Nehemia In
	itiative mit dem Projekt Siebenstein, das Karlsruher Institut für Technolo
	gie (KIT), die Außenstelle Albschule BISS, der Soziale Dienst Mitte-Süd, d
	ie Schulsozialarbeit, das Startpunkt Elterncafé der Südstadt sowie eine Hü
	pfburg der Sparkasse Karlsruhe.</p><p>Organisiert wird das Südstadtfestiva
	l vom Kinder- und Jugendhaus Südstadt und der Kinderinsel-Süd des Stadtjug
	endausschuss e. V. Karlsruhe (stja).</p><p>„Das Festival ist seit vielen J
	ahren ein wichtiger Treffpunkt im Stadtteil – ein Ort, an dem Begegnung, K
	ultur und Gemeinschaft gelebt werden“, so die Veranstalter.</p><p>Leonie S
	check, Leiterin des Kinder- und Jugendhauses Südstadt, und Franciska Jukic
	, Leiterin der Kinderinsel-Süd, laden dich herzlich zum Mitfeiern und Geni
	eßen ein. Der Eintritt ist frei.</p><p></p>
BEGIN:VALARM
ACTION:DISPLAY
DESCRIPTION:Südstadtfestival: 30 Jahre Festival und 75 Jahre Stadtjugendaus
	schuss
TRIGGER:-PT1H
END:VALARM
END:VEVENT
END:VCALENDAR
