BEGIN:VCALENDAR
VERSION:2.0
CALSCALE:GREGORIAN
PRODID:adamgibbons/ics
METHOD:PUBLISH
X-PUBLISHED-TTL:PT1H
BEGIN:VEVENT
UID:275@events.karlsruhe-social.de
SUMMARY:Shalosh
DTSTAMP:20260420T120524Z
DTSTART:20261023T180000Z
DESCRIPTION:What We Are Made Of Tour 2026\n\nMit ihrem sechsten Album What 
	We Are Made Of richtet SHALOSH den Blick nach\ninnen und klingt dabei zugl
	eich so weit und offen wie nie zuvor. Die Platte ist\nein tiefgehendes Ein
	tauchen in die musikalische DNA des Trios und zeichnet die\nEinflüsse\, In
	stinkte und emotionalen Kräfte nach\, die ihre gemeinsame Sprache\nüber Ja
	hre enger Zusammenarbeit und unermüdlichen Tourens geprägt  haben.\n\nDurc
	h die Verbindung eigener Kompositionen mit mutig neu interpretierten\nCove
	rversionen bewegt sich das Album fließend zwischen rohem Groove\, lyrische
	r\nIntrospektion und Momenten ungezügelter Intensität. Jazz erscheint hier
	 nicht\nals Genregrenze\, sondern als Haltung – offen\, körperlich und stä
	ndig in Bewegung\n– und schafft den Raum dafür\, dass Elemente aus Rock\, 
	klassischer Musik und Pop\nganz selbstverständlich im hochkonzentrierten K
	lang des Trios zusammenfinden.\n\nAufgenommen mit jener Unmittelbarkeit un
	d Risikobereitschaft\, die SHALOSHs\nLive-Auftritte auszeichnen\, zeigt Wh
	at We Are Made Of die Band so direkt und\npersönlich wie selten zuvor. Auf
	 der Bühne wird das Material zu einem lebendigen\nOrganismus: elastisch\, 
	volatil und zutiefst kommunikativ\, getragen von der\nseltenen Chemie drei
	er Musiker\, die denken\, reagieren und atmen wie einer.\nSHALOSH präsenti
	eren dieses neue Kapitel als kraftvolles Live-Erlebnis\, das die\nGrenzen 
	zwischen Konzert und kollektivem Katharsismoment verschwimmen lässt.
URL:https://events.karlsruhe-social.de/event/shalosh
GEO:49.0135;8.35882
LOCATION:Kulturzentrum Tempel - Kulturverein Tempel e.V. im Kulturzentrum T
	empel Hardtstraße 37 A D-76185 Karlsruhe
STATUS:CONFIRMED
CATEGORIES:#KeepKarlsruheBoring,Music
X-ALT-DESC;FMTTYPE=text/html:<p><strong>What We Are Made Of Tour 2026</stro
	ng></p><p>Mit ihrem sechsten Album What We Are Made Of richtet SHALOSH den
	 Blick nach innen und klingt dabei zugleich so weit und offen wie nie zuvo
	r. Die Platte ist ein tiefgehendes Eintauchen in die musikalische DNA des 
	Trios und zeichnet die Einflüsse, Instinkte und emotionalen Kräfte nach, d
	ie ihre gemeinsame Sprache über Jahre enger Zusammenarbeit und unermüdlich
	en Tourens geprägt&nbsp; haben.</p><p>Durch die Verbindung eigener Komposi
	tionen mit mutig neu interpretierten Coverversionen bewegt sich das Album 
	fließend zwischen rohem Groove, lyrischer Introspektion und Momenten ungez
	ügelter Intensität. Jazz erscheint hier nicht als Genregrenze, sondern als
	 Haltung – offen, körperlich und ständig in Bewegung – und schafft den Rau
	m dafür, dass Elemente aus Rock, klassischer Musik und Pop ganz selbstvers
	tändlich im hochkonzentrierten Klang des Trios zusammenfinden.</p><p>Aufge
	nommen mit jener Unmittelbarkeit und Risikobereitschaft, die SHALOSHs Live
	-Auftritte auszeichnen, zeigt What We Are Made Of die Band so direkt und p
	ersönlich wie selten zuvor. Auf der Bühne wird das Material zu einem leben
	digen Organismus: elastisch, volatil und zutiefst kommunikativ, getragen v
	on der seltenen Chemie dreier Musiker, die denken, reagieren und atmen wie
	 einer. SHALOSH präsentieren dieses neue Kapitel als kraftvolles Live-Erle
	bnis, das die Grenzen zwischen Konzert und kollektivem Katharsismoment ver
	schwimmen lässt.</p>
BEGIN:VALARM
ACTION:DISPLAY
DESCRIPTION:Shalosh
TRIGGER:-PT1H
END:VALARM
END:VEVENT
END:VCALENDAR
