BEGIN:VCALENDAR
VERSION:2.0
CALSCALE:GREGORIAN
PRODID:adamgibbons/ics
METHOD:PUBLISH
X-PUBLISHED-TTL:PT1H
BEGIN:VEVENT
UID:333@events.karlsruhe-social.de
SUMMARY:OV Sneak Schauburg
DTSTAMP:20260425T231127Z
DTSTART:20260429T190000Z
DTEND:20260429T213000Z
DESCRIPTION:Film\, Popcorn und ein Sekt/Orangensaft für nur 6€
URL:https://events.karlsruhe-social.de/event/ov-sneak-schauburg
GEO:49.0032;8.40781
LOCATION:Schauburg - Marienstraße 16 76137 Karlsruhe
STATUS:CONFIRMED
CATEGORIES:#KeepKarlsruheBoring,Fedika
X-ALT-DESC;FMTTYPE=text/html:<p>Film, Popcorn und ein Sekt/Orangensaft für 
	nur 6€ </p>
BEGIN:VALARM
ACTION:DISPLAY
DESCRIPTION:OV Sneak Schauburg
TRIGGER:-PT1H
END:VALARM
END:VEVENT
END:VCALENDAR
