BEGIN:VCALENDAR
VERSION:2.0
CALSCALE:GREGORIAN
PRODID:adamgibbons/ics
METHOD:PUBLISH
X-PUBLISHED-TTL:PT1H
BEGIN:VEVENT
UID:299@events.karlsruhe-social.de
SUMMARY:Matti Klein Soul Trio
DTSTAMP:20260421T183741Z
DTSTART:20260926T180000Z
DTEND:20260926T210000Z
DESCRIPTION:Bouncin’ In Bubbleverse – Release-Tour\n\n Deep-Fried Contempor
	ary Soul-Jazz Line-Up: Matti Klein - wurlitzer\, rhodes bass\n| Lars Diete
	rich - bass clarinet\, sax | André Seidel – drums\n\nWas ist Soul? Gefühl\
	, Musikstil\, Identität – all das vereint das Matti Klein\nSoul Trio. Seit
	 2017 weltweit auf Tour\, lotet das Trio die Möglichkeiten des\nSoul-Jazz 
	neu aus: mit warmem Wurlitzer\, Fender Rhodes Piano-Bass (beides Matti\nKl
	ein)\, waberndem Tenorsaxofon und Bassklarinette (Lars Dieterich) sowie\ne
	lastisch-funky Drums (André Seidel). Auf Releasetour des neuen Albums Boun
	cin'\nIn Bubbleverse begeistern sie Kritiker und Soulgourmets gleichermaße
	n – mit\ncatchy Melodien und eindrucksvollen\, lange nachhallenden\nGesell
	schaftsreflexionen\, in denen sich die Vielfalt ihrer weltweiten\nTournee-
	Erfahrungen spiegelt.\n\nPressezitate:\n„One of the best live acts in cont
	emporary jazz“ JAZZWISE Live-Review\n„A really good album by keyboards pla
	yer Matti Klein. I was really taken with\nthis record and in fact I was go
	nna play it as my favourite track of the week."\n“Robert Elms - BBC London
URL:https://events.karlsruhe-social.de/event/matti-klein-soul-trio
GEO:49.0135;8.35882
LOCATION:Kulturzentrum Tempel - Kulturverein Tempel e.V. im Kulturzentrum T
	empel Hardtstraße 37 A D-76185 Karlsruhe
STATUS:CONFIRMED
CATEGORIES:#KeepKarlsruheBoring
X-ALT-DESC;FMTTYPE=text/html:<p><strong>Bouncin’ In Bubbleverse – Release-T
	our</strong></p><p>&nbsp;Deep-Fried Contemporary Soul-Jazz Line-Up: Matti 
	Klein - wurlitzer, rhodes bass | Lars Dieterich - bass clarinet, sax | And
	ré Seidel – drums<br><br>Was ist Soul? Gefühl, Musikstil, Identität – all 
	das vereint das Matti Klein Soul Trio. Seit 2017 weltweit auf Tour, lotet 
	das Trio die Möglichkeiten des Soul-Jazz neu aus: mit warmem Wurlitzer, Fe
	nder Rhodes Piano-Bass (beides Matti Klein), waberndem Tenorsaxofon und Ba
	ssklarinette (Lars Dieterich) sowie elastisch-funky Drums (André Seidel). 
	Auf Releasetour des neuen Albums Bouncin' In Bubbleverse begeistern sie Kr
	itiker und Soulgourmets gleichermaßen – mit catchy Melodien und eindrucksv
	ollen, lange nachhallenden Gesellschaftsreflexionen, in denen sich die Vie
	lfalt ihrer weltweiten Tournee-Erfahrungen spiegelt.</p><p>Pressezitate:<b
	r>„One of the best live acts in contemporary jazz“ JAZZWISE Live-Review<br
	>„A really good album by keyboards player Matti Klein. I was really taken 
	with this record and in fact I was gonna play it as my favourite track of 
	the week." “Robert Elms - BBC London</p>
BEGIN:VALARM
ACTION:DISPLAY
DESCRIPTION:Matti Klein Soul Trio
TRIGGER:-PT1H
END:VALARM
END:VEVENT
END:VCALENDAR
