BEGIN:VCALENDAR
VERSION:2.0
CALSCALE:GREGORIAN
PRODID:adamgibbons/ics
METHOD:PUBLISH
X-PUBLISHED-TTL:PT1H
BEGIN:VEVENT
UID:296@events.karlsruhe-social.de
SUMMARY:Lisa Bless - Solo Performance
DTSTAMP:20260421T183707Z
DTSTART:20260627T180000Z
DTEND:20260627T210000Z
DESCRIPTION:Ehrenpreis für Otto\n\nEine Solo-Performance von Lisa Bless [ht
	tps://lisabless.com/about/] über\nIdentität\, Verantwortung und die Frage\
	, wie wir heute miteinander leben und\nerinnern wollen.\n\nIn EHRENPREIS f
	ür Otto wird Tanz zur Sprache\, um familiäre Erinnerung(slück)en\,\nGeschi
	chten\, Schweigen\, Scham und Weitergegebenes sichtbar zu machen. Im Wechs
	el\nvon Körper\, Stimme und Erzählung entsteht ein Raum\, in dem persönlic
	he und\ngemeinsame Geschichte aufeinandertreffen.\n\n\n19:45 Uhr Einlass\n
	20:00 Uhr Beginn\n\n \n\nKonzept\, Choreografie\, KostümLisa BlessDramatur
	gieNatalie\nBroschatSounddesignElama Mampomo & Savio Suriano\n\n\n
URL:https://events.karlsruhe-social.de/event/lisa-bless-solo-performance
GEO:49.0135;8.35882
LOCATION:Kulturzentrum Tempel - Kulturverein Tempel e.V. im Kulturzentrum T
	empel Hardtstraße 37 A D-76185 Karlsruhe
STATUS:CONFIRMED
CATEGORIES:#KeepKarlsruheBoring,Dance,Solotanz
X-ALT-DESC;FMTTYPE=text/html:<p><strong>Ehrenpreis für Otto</strong></p><p>
	Eine Solo-Performance von <a target="_blank" href="https://lisabless.com/a
	bout/">Lisa Bless</a> über Identität, Verantwortung und die Frage, wie wir
	 heute miteinander leben und erinnern wollen.</p><p>In EHRENPREIS für Otto
	 wird Tanz zur Sprache, um familiäre Erinnerung(slück)en, Geschichten, Sch
	weigen, Scham und Weitergegebenes sichtbar zu machen. Im Wechsel von Körpe
	r, Stimme und Erzählung entsteht ein Raum, in dem persönliche und gemeinsa
	me Geschichte aufeinandertreffen.<br></p><p>19:45 Uhr Einlass<br>20:00 Uhr
	 Beginn</p><p>&nbsp;</p><p>Konzept, Choreografie, KostümLisa BlessDramatur
	gieNatalie BroschatSounddesignElama Mampomo &amp; Savio Suriano</p><p><br>
	</p>
BEGIN:VALARM
ACTION:DISPLAY
DESCRIPTION:Lisa Bless - Solo Performance
TRIGGER:-PT1H
END:VALARM
END:VEVENT
END:VCALENDAR
