BEGIN:VCALENDAR
VERSION:2.0
CALSCALE:GREGORIAN
PRODID:adamgibbons/ics
METHOD:PUBLISH
X-PUBLISHED-TTL:PT1H
BEGIN:VEVENT
UID:274@events.karlsruhe-social.de
SUMMARY:Lina Bó
DTSTAMP:20260420T115402Z
DTSTART:20261029T190000Z
DESCRIPTION:Asphalt und Sterne Tour 2026\n\nLina Bó gehen 2026 wieder auf T
	our: Die Asphalt und Sterne Tour 2026!\n \nLina Bó stehen für Musik\, die 
	bewegt! Seit ihrer Gründung 2018 haben Celina von\nWrochem und Luca Bo Han
	sen ihren ganz eigenen Sound entwickelt: Folk-Pop mit\nEinflüssen aus Late
	inamerika\, viel Gefühl und noch mehr Energie. Ob auf der\nStraße oder im 
	Club – ihre Songs erzählen von Begegnungen\, vom Reisen\, vom Leben\nzwisc
	hen Kulturen. Mal leichtfüßig und tanzbar\, mal nachdenklich und voll Seel
	e.\n \nMit ihrer selbstbetitelten Debüt-EP\, zahlreichen TV-Auftritten und
	 Supportshows\nfür Größen wie Santiano oder Anna R. haben Lina Bó längst g
	ezeigt\, was in ihnen\nsteckt. Nach der 2025 teilweise ausverkauften Deuts
	chlandtour bringen sie 2026\nihre Musik erneut in die Clubs der Nation!\n\
	nBild ©Christoph Eisenmenger
URL:https://events.karlsruhe-social.de/event/lina-bo
GEO:49.0135;8.35882
LOCATION:Kulturzentrum Tempel - Kulturverein Tempel e.V. im Kulturzentrum T
	empel Hardtstraße 37 A D-76185 Karlsruhe
STATUS:CONFIRMED
CATEGORIES:#KeepKarlsruheBoring,Music,Pop
X-ALT-DESC;FMTTYPE=text/html:<p><strong>Asphalt und Sterne Tour 2026</stron
	g></p><p>Lina Bó gehen 2026 wieder auf Tour: Die Asphalt und Sterne Tour 2
	026!<br>&nbsp;<br>Lina Bó stehen für Musik, die bewegt! Seit ihrer Gründun
	g 2018 haben Celina von Wrochem und Luca Bo Hansen ihren ganz eigenen Soun
	d entwickelt: Folk-Pop mit Einflüssen aus Lateinamerika, viel Gefühl und n
	och mehr Energie. Ob auf der Straße oder im Club – ihre Songs erzählen von
	 Begegnungen, vom Reisen, vom Leben zwischen Kulturen. Mal leichtfüßig und
	 tanzbar, mal nachdenklich und voll Seele.<br>&nbsp;<br>Mit ihrer selbstbe
	titelten Debüt-EP, zahlreichen TV-Auftritten und Supportshows für Größen w
	ie <em>Santiano</em> oder <em>Anna R.</em> haben Lina Bó längst gezeigt, w
	as in ihnen steckt. Nach der 2025 teilweise ausverkauften Deutschlandtour 
	bringen sie 2026 ihre Musik erneut in die Clubs der Nation!</p><p>Bild ©Ch
	ristoph Eisenmenger</p>
BEGIN:VALARM
ACTION:DISPLAY
DESCRIPTION:Lina Bó
TRIGGER:-PT1H
END:VALARM
END:VEVENT
END:VCALENDAR
