BEGIN:VCALENDAR
VERSION:2.0
CALSCALE:GREGORIAN
PRODID:adamgibbons/ics
METHOD:PUBLISH
X-PUBLISHED-TTL:PT1H
BEGIN:VEVENT
UID:273@events.karlsruhe-social.de
SUMMARY:Konzert: Anders - Wir schenken uns nix [27 - 30 €]
DTSTAMP:20260420T114341Z
DTSTART:20261206T180000Z
DESCRIPTION:Es weihnachtet sehr!\n\nAnders stehen für zeitgemäßen A-cappell
	a-Pop\, kluge deutschsprachige Texte und\nMelodien\, die im Ohr bleiben – 
	und das auch an Weihnachten.\n\nIn ihrem Programm „Wir schenken uns nix“ w
	idmen sich die fünf Freiburger den\nschönsten\, schrägsten und berührendst
	en Seiten der kalten Jahreszeit. Zwischen\nKerzenschein und Kaufrausch\, Z
	imtstern und Zuckerguss\, Besinnlichkeit und\nFesttagswahnsinn erzählen si
	e Geschichten von all dem\, was dieses Fest so\nwunderbar und manchmal auc
	h so wunderbar anstrengend macht. Mit einer Mischung\naus selbstgeschriebe
	nen Liedern voller Witz und Wehmut\, vertrauten\nWeihnachtsklängen und fei
	nen Pop-Jazz-Arrangements werden Anders zu charmanten\nBeobachtern des Dra
	mas\, das sich Jahr für Jahr zwischen Lametta\, Lebkuchen und\nLichterglan
	z abspielt.\n\nOb eingefleischter Weihnachtsfan oder erklärter Festtagsver
	weigerer. "Wir\nschenken uns nix“ ist ein musikalisches Geschenk\, das gar
	antiert niemand\nunberührt lässt.\n\nStehkonzert\n\nAnders sind\nJohannes 
	Berning – Bariton\nFlorian Clasen – Bass\nAdrian Goldner – Bariton/Tenor\n
	Moritz Nautscher – Tenor\nJohannes Jäck – Bartion/Beatbox\n\nANDERS sind G
	ewinner der St Ingberter Pfanne 2020 (Publikumspreis & Sonderpreis\nder Ku
	ltusministerin)\, des Vokal.total [http://Vokal.total]-Festival Graz 2019\
	n(1. Preis der Kategorie POP) und des SoLaLa A-Cappella Festival Solingen 
	2019\n(Jurypreis & Publikumspreis). 2019 wurde ANDERS für ihr Album „Viel 
	Lärm um\ndich“ in den USA mit dem CARA Award als bestes europäisches A-Cap
	pella Album\nausgezeichnet. Sie gewannen zudem den 1. Preis beim Aarhus Vo
	cal Festival 2024\nund wurden mit dem Förderpreis des Kleinkunstpreises Ba
	den-Württemberg 2024\nprämiert.\n\n \n\nVVK: € 27\,00\; AK: € 30\,00
URL:https://events.karlsruhe-social.de/event/konzert-anders-wir-schenken-un
	s-nix-27-30-euro
GEO:49.0135;8.35882
LOCATION:Kulturzentrum Tempel - Kulturverein Tempel e.V. im Kulturzentrum T
	empel Hardtstraße 37 A D-76185 Karlsruhe
STATUS:CONFIRMED
CATEGORIES:#KeepKarlsruheBoring,Music,Pop,Ticket
X-ALT-DESC;FMTTYPE=text/html:<p><strong>Es weihnachtet sehr!</strong></p><p
	>Anders stehen für zeitgemäßen A-cappella-Pop, kluge deutschsprachige Text
	e und Melodien, die im Ohr bleiben – und das auch an Weihnachten.</p><p>In
	 ihrem Programm „Wir schenken uns nix“ widmen sich die fünf Freiburger den
	 schönsten, schrägsten und berührendsten Seiten der kalten Jahreszeit. Zwi
	schen Kerzenschein und Kaufrausch, Zimtstern und Zuckerguss, Besinnlichkei
	t und Festtagswahnsinn erzählen sie Geschichten von all dem, was dieses Fe
	st so wunderbar und manchmal auch so wunderbar anstrengend macht. Mit eine
	r Mischung aus selbstgeschriebenen Liedern voller Witz und Wehmut, vertrau
	ten Weihnachtsklängen und feinen Pop-Jazz-Arrangements werden Anders zu ch
	armanten Beobachtern des Dramas, das sich Jahr für Jahr zwischen Lametta, 
	Lebkuchen und Lichterglanz abspielt.</p><p>Ob eingefleischter Weihnachtsfa
	n oder erklärter Festtagsverweigerer. "Wir schenken uns nix“ ist ein musik
	alisches Geschenk, das garantiert niemand unberührt lässt.</p><p>Stehkonze
	rt</p><p>Anders sind<br>Johannes Berning – Bariton<br>Florian Clasen – Bas
	s<br>Adrian Goldner – Bariton/Tenor<br>Moritz Nautscher – Tenor<br>Johanne
	s Jäck – Bartion/Beatbox</p><p>ANDERS sind Gewinner der St Ingberter Pfann
	e 2020 (Publikumspreis &amp; Sonderpreis der Kultusministerin), des <a tar
	get="_blank" href="http://Vokal.total">Vokal.total</a>-Festival Graz 2019 
	(1. Preis der Kategorie POP) und des SoLaLa A-Cappella Festival Solingen 2
	019 (Jurypreis &amp; Publikumspreis). 2019 wurde ANDERS für ihr Album „Vie
	l Lärm um dich“ in den USA mit dem CARA Award als bestes europäisches A-Ca
	ppella Album ausgezeichnet. Sie gewannen zudem den 1. Preis beim Aarhus Vo
	cal Festival 2024 und wurden mit dem Förderpreis des Kleinkunstpreises Bad
	en-Württemberg 2024 prämiert.</p><p>&nbsp;</p><p>VVK: € 27,00; AK: € 30,00
	</p>
BEGIN:VALARM
ACTION:DISPLAY
DESCRIPTION:Konzert: Anders - Wir schenken uns nix [27 - 30 €]
TRIGGER:-PT1H
END:VALARM
END:VEVENT
END:VCALENDAR
