BEGIN:VCALENDAR
VERSION:2.0
CALSCALE:GREGORIAN
PRODID:adamgibbons/ics
METHOD:PUBLISH
X-PUBLISHED-TTL:PT1H
BEGIN:VEVENT
UID:332@events.karlsruhe-social.de
SUMMARY:Karlsruher Digital Independence Day im AKK
DTSTAMP:20260425T185745Z
DTSTART:20260503T100000Z
DTEND:20260503T140000Z
DESCRIPTION:Was? Gemeinsam digital unabhängig werden von Tech-Monopolen!\n\
	nWo? AKK\, Engesserstraße 17\, 76131 Karlsruhe\, Universität Karlsruhe\n\n
	Wann? 12:00 bis 16:00\n\nAn den Digital Independence Days (DI.Days) kommen
	 wir zusammen\, um uns unser\ndigitales Leben zurückzuholen\; frei von Mon
	opolen\, dezentral und\ndemokratiefreundlich. Wir zeigen praxisnahe Beispi
	ele\, wie man in kleinen\nSchritten unabhängig von den Lösungen digitaler 
	Großkonzerne wird. Vom einfachen\nWechsel des Messengers oder der Office-S
	oftware bis hin zum Umstieg auf Linux.\nGemeinsam ist alles möglich!\n\nNe
	ben technischer Unterstützung und guten Gesprächen gibt es leckere vegane\
	nVerpflegung für alle. Bring dein eigenes Gerät (Laptop\, Tablet oder Smar
	tphone)\nund viele Fragen mit\, um direkt erste Schritte Richtung digitale
	 Unabhängigkeit\nzu machen.\n\nWir freuen uns auf euch!\n\n
URL:https://events.karlsruhe-social.de/event/karlsruher-digital-independenc
	e-day-im-akk
GEO:49.0112;8.41461
LOCATION:AKK - 17\, Engesserstraße\, Innenstadt-Ost Nordöstlicher Teil\, In
	nenstadt\, Karlsruhe\, Baden-Württemberg\, 76131\, Deutschland
STATUS:CONFIRMED
CATEGORIES:#KeepKarlsruheBoring,Fedika,Technology,Workshop
X-ALT-DESC;FMTTYPE=text/html:<p><strong>Was?</strong> Gemeinsam digital una
	bhängig werden von Tech-Monopolen!</p><p><strong>Wo?</strong> AKK, Engesse
	rstraße 17, 76131 Karlsruhe, Universität Karlsruhe</p><p><strong>Wann?</st
	rong> 12:00 bis 16:00</p><p>An den Digital Independence Days (DI.Days) kom
	men wir zusammen, um uns unser digitales Leben zurückzuholen; frei von Mon
	opolen, dezentral und demokratiefreundlich. Wir zeigen praxisnahe Beispiel
	e, wie man in kleinen Schritten unabhängig von den Lösungen digitaler Groß
	konzerne wird. Vom einfachen Wechsel des Messengers oder der Office-Softwa
	re bis hin zum Umstieg auf Linux. Gemeinsam ist alles möglich!</p><p>Neben
	 technischer Unterstützung und guten Gesprächen gibt es leckere vegane Ver
	pflegung für alle. Bring dein eigenes Gerät (Laptop, Tablet oder Smartphon
	e) und viele Fragen mit, um direkt erste Schritte Richtung digitale Unabhä
	ngigkeit zu machen.</p><p>Wir freuen uns auf euch!</p><p></p>
BEGIN:VALARM
ACTION:DISPLAY
DESCRIPTION:Karlsruher Digital Independence Day im AKK
TRIGGER:-PT1H
END:VALARM
END:VEVENT
END:VCALENDAR
