BEGIN:VCALENDAR
VERSION:2.0
CALSCALE:GREGORIAN
PRODID:adamgibbons/ics
METHOD:PUBLISH
X-PUBLISHED-TTL:PT1H
BEGIN:VEVENT
UID:294@events.karlsruhe-social.de
SUMMARY:Jivers
DTSTAMP:20260421T183647Z
DTSTART:20260609T180000Z
DTEND:20260609T210000Z
DESCRIPTION:aus Buenos Aires\, Argentina\n\nIn Kooperation Swing in Karlsru
	he e.V.\n\nJivers ist eine vierköpfige Band mit einem spezifischen Jazz-Re
	pertoire:\nVocal-Swing der dreißiger und vierziger Jahre. Vorwiegend inspi
	riert von Bands\nwie „The Mills Brothers“\, „The Andrews Sisters“ und „The
	 Boswell Sisters“\,\npassen sie Original Arrangements an ihre Instrumentie
	rung an. Sie kreieren auch\nihre eigenen Arrangements für nicht so traditi
	onelle Lieder\, wobei sie eine enge\ndreistimmige Harmonie betonen. Die Rh
	ythmusgruppe besteht aus einer Gitarre und\neiner kleinen Trommel\, ergänz
	t durch eine typische traditionelle Jazzformation\nder 20er Jahre: eine Tu
	ba\, ein Banjo und ein Waschbrett. Die übrigen\ntraditionellen Jazz Instru
	mente – wie Trompete\, Klarinette oder Posaune – werden\nvon den Sängern/r
	innen mit ihrer eigenen Stimme imitiert\, was eine typische\nRessource die
	ser Art der Stimmbildung darstellt. Neben der wachsenden\nSwing-Tanz-Szene
	 in Argentinien – mit Tanzstilen wie Lindy Hop und Charleston –\nbegreifen
	 Jivers diesen Stil als soziale Tanzmusik. Sie haben vier Albums\nveröffen
	tlicht: „JIVERS“ 2013\, „HOT GINGER & DYNAMITE“ 2015\, „SWINGIN’ HARMONY“\
	n2020 und „SWINGIN’ MARÍA ELENA“ 2023.\n\nJIVERS wurde im Jahre 2012 gegrü
	ndet und tritt seitdem an vielen renommierten\nVeranstaltungsorten der Bue
	nos Aires Jazz-Szene auf. Darüber hinaus haben sie an\nverschiedenen Festi
	vals teilgenommen und werden regelmäßig für\ngesellschaftliche\, kulturell
	e und geschäftliche Veranstaltungen engagiert.
URL:https://events.karlsruhe-social.de/event/jivers
GEO:49.0135;8.35882
LOCATION:Kulturzentrum Tempel - Kulturverein Tempel e.V. im Kulturzentrum T
	empel Hardtstraße 37 A D-76185 Karlsruhe
STATUS:CONFIRMED
CATEGORIES:#KeepKarlsruheBoring,weltmusik
X-ALT-DESC;FMTTYPE=text/html:<p><strong>aus Buenos Aires, Argentina</strong
	></p><p>In Kooperation Swing in Karlsruhe e.V.</p><p>Jivers ist eine vierk
	öpfige Band mit einem spezifischen Jazz-Repertoire: Vocal-Swing der dreißi
	ger und vierziger Jahre. Vorwiegend inspiriert von Bands wie „The Mills Br
	others“, „The Andrews Sisters“ und „The Boswell Sisters“, passen sie Origi
	nal Arrangements an ihre Instrumentierung an. Sie kreieren auch ihre eigen
	en Arrangements für nicht so traditionelle Lieder, wobei sie eine enge dre
	istimmige Harmonie betonen. Die Rhythmusgruppe besteht aus einer Gitarre u
	nd einer kleinen Trommel, ergänzt durch eine typische traditionelle Jazzfo
	rmation der 20er Jahre: eine Tuba, ein Banjo und ein Waschbrett. Die übrig
	en traditionellen Jazz Instrumente – wie Trompete, Klarinette oder Posaune
	 – werden von den Sängern/rinnen mit ihrer eigenen Stimme imitiert, was ei
	ne typische Ressource dieser Art der Stimmbildung darstellt. Neben der wac
	hsenden Swing-Tanz-Szene in Argentinien – mit Tanzstilen wie Lindy Hop und
	 Charleston – begreifen Jivers diesen Stil als soziale Tanzmusik. Sie habe
	n vier Albums veröffentlicht: „JIVERS“ 2013, „HOT GINGER &amp; DYNAMITE“ 2
	015, „SWINGIN’ HARMONY“ 2020 und „SWINGIN’ MARÍA ELENA“ 2023.</p><p>JIVERS
	 wurde im Jahre 2012 gegründet und tritt seitdem an vielen renommierten Ve
	ranstaltungsorten der Buenos Aires Jazz-Szene auf. Darüber hinaus haben si
	e an verschiedenen Festivals teilgenommen und werden regelmäßig für gesell
	schaftliche, kulturelle und geschäftliche Veranstaltungen engagiert.</p>
BEGIN:VALARM
ACTION:DISPLAY
DESCRIPTION:Jivers
TRIGGER:-PT1H
END:VALARM
END:VEVENT
END:VCALENDAR
