BEGIN:VCALENDAR
VERSION:2.0
CALSCALE:GREGORIAN
PRODID:adamgibbons/ics
METHOD:PUBLISH
X-PUBLISHED-TTL:PT1H
BEGIN:VEVENT
UID:295@events.karlsruhe-social.de
SUMMARY:JAZZIKA & LEMOTION
DTSTAMP:20260421T183728Z
DTSTART:20260621T170000Z
DTEND:20260621T210000Z
DESCRIPTION:Summertime\n\nPunktlandung! Zum offiziellen Sommerbeginn lädt J
	AZZiKA\, der Jazzchor aus\nKarlsruhe\, zu einem a cappella Konzert in den 
	Tempel ein.\n\nMusikalisch begeben sich die SängerInnen auf eine "Journey 
	to Brazil"\, bringen\nsich und das Publikum mit einem "Bicycle Race" auf T
	ouren\, um sich danach mit\neinem gefühlvollen "Tenderly" der Liebe zu wid
	men.\n\nDer mitwirkende Gastchor "lemotion" bietet passend zur Sommerzeit 
	einen Cocktail\naus Limetten und Emotionen mit vielstimmigen Arrangements 
	bekannter Jazz- und\nPopsongs aus aktuellen Chorszene. 
URL:https://events.karlsruhe-social.de/event/jazzika-and-lemotion
GEO:49.0135;8.35882
LOCATION:Kulturzentrum Tempel - Kulturverein Tempel e.V. im Kulturzentrum T
	empel Hardtstraße 37 A D-76185 Karlsruhe
STATUS:CONFIRMED
CATEGORIES:#KeepKarlsruheBoring,Jazz,Jazzdance
X-ALT-DESC;FMTTYPE=text/html:<p><strong>Summertime</strong></p><p>Punktland
	ung! Zum offiziellen Sommerbeginn lädt JAZZiKA, der Jazzchor aus Karlsruhe
	, zu einem a cappella Konzert in den Tempel ein.</p><p>Musikalisch begeben
	 sich die SängerInnen auf eine "Journey to Brazil", bringen sich und das P
	ublikum mit einem "Bicycle Race" auf Touren, um sich danach mit einem gefü
	hlvollen "Tenderly" der Liebe zu widmen.</p><p>Der mitwirkende Gastchor "l
	emotion" bietet passend zur Sommerzeit einen Cocktail aus Limetten und Emo
	tionen mit vielstimmigen Arrangements bekannter Jazz- und Popsongs aus akt
	uellen Chorszene.&nbsp;</p>
BEGIN:VALARM
ACTION:DISPLAY
DESCRIPTION:JAZZIKA & LEMOTION
TRIGGER:-PT1H
END:VALARM
END:VEVENT
END:VCALENDAR
