BEGIN:VCALENDAR
VERSION:2.0
CALSCALE:GREGORIAN
PRODID:adamgibbons/ics
METHOD:PUBLISH
X-PUBLISHED-TTL:PT1H
BEGIN:VEVENT
UID:311@events.karlsruhe-social.de
SUMMARY:Jazz Erwachsene: Frühlingskurs für Mittelstufe ab 25. März
DTSTAMP:20260422T224414Z
DTSTART:20260429T163000Z
DTEND:20260429T173000Z
DESCRIPTION:Jazz Dance ist eine lebendige Ausdrucksweise\, die Energie\, Rh
	ythmus und\npersönlichen Ausdruck miteinander verbindet. Mein Kurs bietet 
	dir die\nMöglichkeit\, die Vielfalt dieses einzigartigen Tanzstils zu erle
	ben. Von\nenergiegeladenen Bewegungen bis hin zu fließenden Sequenzen – Ja
	zz Dance vereint\nDynamik\, Kreativität und Spaß in einer unvergleichliche
	n Art und Weise. Für\nalle\, die Spaß am Jazz Dance haben\, bietet sich di
	eser Kurs für die Mittelstufe\nan. In einer freundlichen und motivierenden
	 Atmosphäre kannst du regelmäßig\ngemeinsam mit Gleichgesinnten tanzen. \n
	\nKursinhalte:\n\nErlebe eine Stunde voller Freude\, die ein klassisches J
	azz-Warm-up (Pliés\,\nTendus\, Drehübungen etc.)\, gezielte Muskelkräftigu
	ng\, Stretching und mitreißende\nDiagonalen umfasst. Mit Begeisterung\, Ge
	duld und Hingabe arbeiten wir an der\nTechnik und bereiten den Körper opti
	mal auf die abschließende Choreografie vor\,\num das Tanzerlebnis perfekt 
	zu gestalten. Mein Ziel ist es\, Freude zu erleben\,\nloszulassen und glei
	chzeitig Neues zu lernen!\n\nKurszeiten und -orte: \n\n * Mittwochskurs:\n
	   Wann: 18:30 Uhr bis 19:30 Uhr\n   Wo: Tanzando\, Douglasstr. 24/26\, 76
	133 Karlsruhe\n   Termine: 25. März\, 01. April\, 08. April\, 15. April\, 
	22. April\, 29. April\, 06.\n   Mai\, 13. Mai\, 20. Mai\, 10. Juni\, 17. J
	uni\n\nHinweis: Kein Kurs in den Pfingstferien.\n\nTeilnahmeinformationen:
	\n\nDie Termine sind als Block buchbar\, es besteht keine Vertragsbindung 
	und der\nEinstieg ist jederzeit möglich. Es werden keine Anmeldegebühren b
	erechnet.\nInteressierte können gerne eine Probestunde zum Ausprobieren ei
	nzeln buchen. Die\nTeilnehmerzahl ist begrenzt.\n\nKursgebühren:\n\n * 16 
	€ für eine einzelne Probestunde\n\n * 176 € für den gesamten Kursblock (11
	 Stunden)\n\nKontakt:\n\nFür weitere Informationen und Anmeldung stehe ich
	 gerne zur Verfügung. Schreib\nmir einfach per E-Mail an tanzen(at)daniela
	max.de [tanzen@danielamax.de] . Ich\nfreue mich auf deine Nachricht!
URL:https://events.karlsruhe-social.de/event/jazz-erwachsene-fruhlingskurs-
	fur-mittelstufe-ab-25-marz
GEO:49.0094;8.39322
LOCATION:Tanzando - Douglasstr. 24/26\, 76133 Karlsruhe
STATUS:CONFIRMED
CATEGORIES:#KeepKarlsruheBoring
X-ALT-DESC;FMTTYPE=text/html:<p>Jazz Dance ist eine lebendige Ausdrucksweis
	e, die Energie, Rhythmus und persönlichen Ausdruck miteinander verbindet. 
	Mein Kurs bietet dir die Möglichkeit, die Vielfalt dieses einzigartigen Ta
	nzstils zu erleben. Von energiegeladenen Bewegungen bis hin zu fließenden 
	Sequenzen – Jazz Dance vereint Dynamik, Kreativität und Spaß in einer unve
	rgleichlichen Art und Weise. Für alle, die Spaß am Jazz Dance haben, biete
	t sich dieser Kurs für die Mittelstufe an. In einer freundlichen und motiv
	ierenden Atmosphäre kannst du regelmäßig gemeinsam mit Gleichgesinnten tan
	zen.&nbsp;</p><p><strong>Kursinhalte:</strong></p><p>Erlebe eine Stunde vo
	ller Freude, die ein klassisches Jazz-Warm-up (Pliés, Tendus, Drehübungen 
	etc.), gezielte Muskelkräftigung, Stretching und mitreißende Diagonalen um
	fasst. Mit Begeisterung, Geduld und Hingabe arbeiten wir an der Technik un
	d bereiten den Körper optimal auf die abschließende Choreografie vor, um d
	as Tanzerlebnis perfekt zu gestalten. Mein Ziel ist es, Freude zu erleben,
	 loszulassen und gleichzeitig Neues zu lernen!</p><p><strong>Kurszeiten un
	d -orte:</strong>&nbsp;</p><ul><li><p><strong>Mittwochskurs:</strong><br><
	em>Wann:</em> 18:30 Uhr bis 19:30 Uhr<br><em>Wo:</em> Tanzando, Douglasstr
	. 24/26, 76133 Karlsruhe<br><em>Termine:</em> 25. März, 01. April, 08. Apr
	il, 15. April, 22. April, 29. April, 06. Mai, 13. Mai, 20. Mai, 10. Juni, 
	17. Juni</p></li></ul><p><strong>Hinweis:</strong>&nbsp;Kein Kurs in den P
	fingstferien.</p><p><strong>Teilnahmeinformationen:</strong></p><p>Die Ter
	mine sind als Block buchbar, es besteht keine Vertragsbindung und der Eins
	tieg ist jederzeit möglich. Es werden keine Anmeldegebühren berechnet. Int
	eressierte können gerne eine Probestunde zum Ausprobieren einzeln buchen. 
	Die Teilnehmerzahl ist begrenzt.</p><p><strong>Kursgebühren:</strong></p><
	ul><li><p>16 € für eine einzelne Probestunde</p></li><li><p>176 € für den 
	gesamten Kursblock (11 Stunden)</p></li></ul><p><strong>Kontakt:</strong><
	/p><p>Für weitere Informationen und Anmeldung stehe ich gerne zur Verfügun
	g. Schreib mir einfach per E-Mail an&nbsp;<a target="_new" href="mailto:ta
	nzen@danielamax.de">tanzen(at)danielamax.de</a>&nbsp;. Ich freue mich auf 
	deine Nachricht!</p>
BEGIN:VALARM
ACTION:DISPLAY
DESCRIPTION:Jazz Erwachsene: Frühlingskurs für Mittelstufe ab 25. März
TRIGGER:-PT1H
END:VALARM
END:VEVENT
END:VCALENDAR
