BEGIN:VCALENDAR
VERSION:2.0
CALSCALE:GREGORIAN
PRODID:adamgibbons/ics
METHOD:PUBLISH
X-PUBLISHED-TTL:PT1H
BEGIN:VEVENT
UID:281@events.karlsruhe-social.de
SUMMARY:Hofflohmarkt Südstadt im alten und im neuen Teil
DTSTAMP:20260422T105104Z
DTSTART:20260628T080000Z
DTEND:20260628T150000Z
DESCRIPTION:Am Sonntag\, den 28. Juni 2026\, verwandeln sich die Höfe der K
	arlsruher Südstadt\nwieder in ein buntes Paradies für Schatzsucher\, Schnä
	ppchenjäger und\nFlohmarktliebhaber.\nVon 10 bis 17 Uhr öffnen zahlreiche 
	Höfe ihre Tore und laden zum Stöbern\,\nPlaudern und Entdecken ein. Zwisch
	en Vintage-Schätzen\, Büchern\, Kleidung\,\nSpielzeug\, Haushaltsgegenstän
	den und kleinen Kuriositäten findet hier jeder sein\nneues Lieblingsstück.
	\nDer Hofflohmarkt steht für nachhaltiges Shoppen\, lebendige Nachbarschaf
	t und\nechtes Südstadt-Flair. Schlendert von Hof zu Hof\, entdeckt verborg
	ene Innenhöfe\nund genießt einen entspannten Tag voller Begegnungen und Üb
	erraschungen.\nKommt vorbei\, bringt Freunde\, Familie und gute Laune mit 
	und macht euch auf\nSchatzsuche!\nWir freuen uns auf euch beim Südstadt Ho
	fflohmarkt 2026! ✨\n\nDie Teilnahme am Flohmarkt ist kostenfrei!\nSpenden 
	werden gerne entgegen genommen - siehe unten (**)\n[https://www.bg-suedsta
	dt.de/hofflohmaerkte_anmeldung_2026/#spenden]\n\nEs gelten folgende Spielr
	egeln:\n\n 1. Es dürfen nur nicht-gewerbliche Verkäufer*innen mitmachen.\n
	\n 2. Die Flohmarktstände dürfen nur in den Höfen aufgebaut werden.\n    D
	er Verkauf auf öffentliche Flächen\, Gehwegen\, Parkplätze\, etc. ist durc
	h\n    die Stadt Karlsruhe nicht erlaubt.\n\n 3. Jede Hausgemeinschaft ist
	 für den Flohmarkt selbst verantwortlich.\n    Die Initiatoren übernehmen 
	keine Haftung für Schäden.\n\n 4. Hausbesitzer oder Eigentümer müssen info
	rmiert werden und dem Flohmarkt\n    zustimmen.\n\n 5. Müll muss ordentlic
	h entsorgt werden.\n\n 6. Macht Euren Hof durch bunte Luftballons\, Plakat
	e etc.\, die außen angebracht\n    werden\, kenntlich.\n\n 7. Der Markt fi
	ndet bei jedem Wetter statt. Besorgt Euch Schirme\, Planen oder\n    Pavil
	lons\n\nMehr Infos: https://www.bg-suedstadt.de/hofflohmaerkte_anmeldung_2
	026/\n[https://www.bg-suedstadt.de/hofflohmaerkte_anmeldung_2026/]
URL:https://events.karlsruhe-social.de/event/hofflohmarkt-sudstadt-im-alten
	-und-im-neuen-teil
LOCATION:Südstadt - Südstadt
STATUS:CONFIRMED
CATEGORIES:#KeepKarlsruheBoring,Flohmarkt,Südstadt
X-ALT-DESC;FMTTYPE=text/html:<p>Am <strong>Sonntag, den 28. Juni 2026</stro
	ng>, verwandeln sich die Höfe der Karlsruher Südstadt wieder in ein buntes
	 Paradies für Schatzsucher, Schnäppchenjäger und Flohmarktliebhaber.<br>Vo
	n <strong>10 bis 17 Uhr</strong> öffnen zahlreiche Höfe ihre Tore und lade
	n zum Stöbern, Plaudern und Entdecken ein. Zwischen Vintage-Schätzen, Büch
	ern, Kleidung, Spielzeug, Haushaltsgegenständen und kleinen Kuriositäten f
	indet hier jeder sein neues Lieblingsstück.<br>Der Hofflohmarkt steht für 
	nachhaltiges Shoppen, lebendige Nachbarschaft und echtes Südstadt-Flair. S
	chlendert von Hof zu Hof, entdeckt verborgene Innenhöfe und genießt einen 
	entspannten Tag voller Begegnungen und Überraschungen.<br>Kommt vorbei, br
	ingt Freunde, Familie und gute Laune mit und macht euch auf Schatzsuche!<b
	r>Wir freuen uns auf euch beim Südstadt Hofflohmarkt 2026! ✨</p><p><strong
	>Die Teilnahme am Flohmarkt ist kostenfrei!</strong><br>Spenden werden ger
	ne entgegen genommen - <a target="_blank" href="https://www.bg-suedstadt.d
	e/hofflohmaerkte_anmeldung_2026/#spenden">siehe unten (**)</a></p><p><stro
	ng>Es gelten folgende Spielregeln:</strong></p><ol><li><p>Es dürfen nur ni
	cht-gewerbliche Verkäufer*innen mitmachen.</p></li><li><p>Die Flohmarktstä
	nde dürfen nur in den Höfen aufgebaut werden.<br>Der Verkauf auf öffentlic
	he Flächen, Gehwegen, Parkplätze, etc. ist durch die Stadt Karlsruhe <stro
	ng>nicht</strong> erlaubt.</p></li><li><p>Jede Hausgemeinschaft ist für de
	n Flohmarkt selbst verantwortlich.<br>Die Initiatoren übernehmen keine Haf
	tung für Schäden.</p></li><li><p>Hausbesitzer oder Eigentümer müssen infor
	miert werden und dem Flohmarkt zustimmen.</p></li><li><p>Müll muss ordentl
	ich entsorgt werden.</p></li><li><p>Macht Euren Hof durch bunte Luftballon
	s, Plakate etc., die außen angebracht werden, kenntlich.</p></li><li><p>De
	r Markt findet bei jedem Wetter statt. Besorgt Euch Schirme, Planen oder P
	avillons</p></li></ol><p>Mehr Infos: <a target="_blank" href="https://www.
	bg-suedstadt.de/hofflohmaerkte_anmeldung_2026/">https://www.bg-suedstadt.d
	e/hofflohmaerkte_anmeldung_2026/</a></p>
BEGIN:VALARM
ACTION:DISPLAY
DESCRIPTION:Hofflohmarkt Südstadt im alten und im neuen Teil
TRIGGER:-PT1H
END:VALARM
END:VEVENT
END:VCALENDAR
