BEGIN:VCALENDAR
VERSION:2.0
CALSCALE:GREGORIAN
PRODID:adamgibbons/ics
METHOD:PUBLISH
X-PUBLISHED-TTL:PT1H
BEGIN:VEVENT
UID:310@events.karlsruhe-social.de
SUMMARY:Flintaboxen [Flinta only]
DTSTAMP:20260422T224302Z
DTSTART:20260429T163000Z
DTEND:20260429T184500Z
DESCRIPTION:Flinta-Box-Treff\n\nMi\, 18:30 im P8\n\nDu bist eine Flinta-Per
	son und hast Lust gemeinsam Sport zu machen\, Box-Skills\nzu lernen oder z
	u sharen?\n\nDann komm gern vorbei!\n\nDu brauchst Kleidung in der du dich
	 bewegen kannst :)\n\nDu kannst weiter ein Springseil\, Boxhandschuhe\, Ba
	ndagen\, Mundschutz und einen\nKopfschutz mitrbingen.\n\nAlle Level willko
	mmen!
URL:https://events.karlsruhe-social.de/event/flintaboxen-flinta-only
LOCATION:P8 - Schauenburgstr. 5\, 76135 Karlsruhe
STATUS:CONFIRMED
CATEGORIES:#KeepKarlsruheBoring
X-ALT-DESC;FMTTYPE=text/html:<p>Flinta-Box-Treff</p><p>Mi, 18:30 im P8</p><
	p>Du bist eine Flinta-Person und hast Lust gemeinsam Sport zu machen, Box-
	Skills zu lernen oder zu sharen?</p><p>Dann komm gern vorbei!</p><p>Du bra
	uchst Kleidung in der du dich bewegen kannst :)</p><p>Du kannst weiter ein
	 Springseil, Boxhandschuhe, Bandagen, Mundschutz und einen Kopfschutz mitr
	bingen.</p><p>Alle Level willkommen!</p>
BEGIN:VALARM
ACTION:DISPLAY
DESCRIPTION:Flintaboxen [Flinta only]
TRIGGER:-PT1H
END:VALARM
END:VEVENT
END:VCALENDAR
