BEGIN:VCALENDAR
VERSION:2.0
CALSCALE:GREGORIAN
PRODID:adamgibbons/ics
METHOD:PUBLISH
X-PUBLISHED-TTL:PT1H
BEGIN:VEVENT
UID:276@events.karlsruhe-social.de
SUMMARY:Fiona Grond [18-25 €]
DTSTAMP:20260420T120518Z
DTSTART:20260925T180000Z
DESCRIPTION:Kammer-Jazz // Avant-Pop\n\nMan sagt\, die Menschen an der Küst
	e blickten in die Ferne\, die in den Bergen\neher nach innen. Aufgewachsen
	 am Fuße der Alpen\, umgeben von Wäldern und Seen\,\nverwundert es nicht\,
	 dass Fiona Gronds Musik von großer Ehrlichkeit\,\nVerletzlichkeit und Nat
	ürlichkeit geprägt ist. Zarte Töne\, die Räume zwischen\nden Noten sowie b
	ewusste Kontraste\, Reibungen und der Bruch mit Erwartungen\nbestimmen ihr
	en Klang. Mit Hearts Wide Open wendet sie nun ihr Innerstes nach\naußen.\n
	\nIm hochkarätig besetzten Sextett präsentiert Grond ein neues Programm zw
	ischen\nKammer-Jazz\, Avant-Pop und Neuer Musik. Filigrane Kompositionen t
	reffen auf\nkollektive Improvisationen und cineastische Klanglandschaften\
	, stets\ntransparent\, offen und feingliedrig. Es entstehen fragile Klangr
	äume\, die sich\nstetig wandeln – mal klar konturiert\, mal fließend und f
	rei. Die Stücke folgen\neiner natürlichen Logik\, die dem Lauschen mehr ve
	rpflichtet ist als dem\nBehaupten. \n\nSeit ihrem Jazzgesangs- und Komposi
	tionsstudium in München hat sich Fiona Grond\nnational und international e
	inen Namen gemacht. Mit dem 2018 gegründeten Trio\nInterspaces veröffentli
	chte sie zuletzt das Album Poesias beim Label ACT\,\nwelches mehrfach ausg
	ezeichnet wurde. Grond selbst erhielt u. a. den\nLeonard-und-Ida-Wolf-Gedä
	chtnispreis sowie das Musikstipendium der\nLandeshauptstadt München. Neben
	 verschiedenen Projekten und Ensembles ist sie\nheute auf renommierten Büh
	nen und Festivals im In- und Ausland präsent – mit\neiner Musik\, die berü
	hrt\, herausfordert und sich jeder einfachen Kategorisierung\nentzieht.\n\
	nFiona Grond – Vocals\nFelix Weber – Violine\nJakob Roters – Cello\nOlga R
	eznichenko – Klavier\nRobert Lucaciu – Kontrabass\nSimon Popp – Drums & Pe
	rcussion
URL:https://events.karlsruhe-social.de/event/fiona-grond-18-25-euro
GEO:49.0135;8.35882
LOCATION:Kulturzentrum Tempel - Kulturverein Tempel e.V. im Kulturzentrum T
	empel Hardtstraße 37 A D-76185 Karlsruhe
STATUS:CONFIRMED
CATEGORIES:#KeepKarlsruheBoring,Jazz,Music,Ticket
X-ALT-DESC;FMTTYPE=text/html:<p><strong>Kammer-Jazz // Avant-Pop</strong></
	p><p>Man sagt, die Menschen an der Küste blickten in die Ferne, die in den
	 Bergen eher nach innen. Aufgewachsen am Fuße der Alpen, umgeben von Wälde
	rn und Seen, verwundert es nicht, dass Fiona Gronds Musik von großer Ehrli
	chkeit, Verletzlichkeit und Natürlichkeit geprägt ist. Zarte Töne, die Räu
	me zwischen den Noten sowie bewusste Kontraste, Reibungen und der Bruch mi
	t Erwartungen bestimmen ihren Klang. Mit Hearts Wide Open wendet sie nun i
	hr Innerstes nach außen.</p><p>Im hochkarätig besetzten Sextett präsentier
	t Grond ein neues Programm zwischen Kammer-Jazz, Avant-Pop und Neuer Musik
	. Filigrane Kompositionen treffen auf kollektive Improvisationen und cinea
	stische Klanglandschaften, stets transparent, offen und feingliedrig. Es e
	ntstehen fragile Klangräume, die sich stetig wandeln – mal klar konturiert
	, mal fließend und frei. Die Stücke folgen einer natürlichen Logik, die de
	m Lauschen mehr verpflichtet ist als dem Behaupten.&nbsp;</p><p>Seit ihrem
	 Jazzgesangs- und Kompositionsstudium in München hat sich Fiona Grond nati
	onal und international einen Namen gemacht. Mit dem 2018 gegründeten Trio 
	Interspaces veröffentlichte sie zuletzt das Album Poesias beim Label ACT, 
	welches mehrfach ausgezeichnet wurde. Grond selbst erhielt u. a. den Leona
	rd-und-Ida-Wolf-Gedächtnispreis sowie das Musikstipendium der Landeshaupts
	tadt München. Neben verschiedenen Projekten und Ensembles ist sie heute au
	f renommierten Bühnen und Festivals im In- und Ausland präsent – mit einer
	 Musik, die berührt, herausfordert und sich jeder einfachen Kategorisierun
	g entzieht.</p><p>Fiona Grond – Vocals<br>Felix Weber – Violine<br>Jakob R
	oters – Cello<br>Olga Reznichenko – Klavier<br>Robert Lucaciu – Kontrabass
	<br>Simon Popp – Drums &amp; Percussion</p>
BEGIN:VALARM
ACTION:DISPLAY
DESCRIPTION:Fiona Grond [18-25 €]
TRIGGER:-PT1H
END:VALARM
END:VEVENT
END:VCALENDAR
