BEGIN:VCALENDAR
VERSION:2.0
CALSCALE:GREGORIAN
PRODID:adamgibbons/ics
METHOD:PUBLISH
X-PUBLISHED-TTL:PT1H
BEGIN:VEVENT
UID:292@events.karlsruhe-social.de
SUMMARY:Earth Day 2026 - Karlsruhe
DTSTAMP:20260420T231850Z
DTSTART:20260422T100000Z
DTEND:20260422T190000Z
DESCRIPTION:Bundesweite Klimakunstaktion zum Earth Day 26\nSchüler:innen un
	d Studierende aus 17 deutschen Großstädten setzen mit Kunst aus\nrecycelte
	n Schuhen ein Zeichen für Klimaschutz und die UN-Nachhaltigkeitsziele.
URL:https://events.karlsruhe-social.de/event/earth-day-2026-karlsruhe
LOCATION:ZKM Kubus - Lorenzstraße 19\, 76135 Karlsruhe
STATUS:CONFIRMED
CATEGORIES:Begegnung,Klima
X-ALT-DESC;FMTTYPE=text/html:<p><strong>Bundesweite Klimakunstaktion zum Ea
	rth Day 26</strong><br>Schüler:innen und Studierende aus 17 deutschen Groß
	städten setzen mit Kunst aus recycelten Schuhen ein Zeichen für Klimaschut
	z und die UN-Nachhaltigkeitsziele.</p>
BEGIN:VALARM
ACTION:DISPLAY
DESCRIPTION:Earth Day 2026 - Karlsruhe
TRIGGER:-PT1H
END:VALARM
END:VEVENT
END:VCALENDAR
