BEGIN:VCALENDAR
VERSION:2.0
CALSCALE:GREGORIAN
PRODID:adamgibbons/ics
METHOD:PUBLISH
X-PUBLISHED-TTL:PT1H
BEGIN:VEVENT
UID:265@events.karlsruhe-social.de
SUMMARY:Digital Independence Day Karlsruhe
DTSTAMP:20260421T081351Z
DTSTART:20260419T100000Z
DTEND:20260419T140000Z
DESCRIPTION:In der Medialounge des ZKM veranstaltet das Medienkompetenz Tea
	m e.V. zusammen\nmit dem Entropia e.V. [https://entropia.de/] und dem KIT-
	Zentrum Mensch und\nTechnik [https://www.mensch-und-technik.kit.edu/index.
	php] am 19.04.2026 von\n12-16 Uhr den nächsten Digital Independence Day in
	 Karlsruhe. Der DI.Day\n[http://DI.Day] startet mit einer kurzen Einführun
	g in das Thema digitale\nUnabhängigkeit. Im Anschluss können Erfahrungen a
	usgetauscht werden und an\nzahlreichen Stationen alternative Lösungen ausp
	robiert werden:
URL:https://events.karlsruhe-social.de/event/digital-independence-day-karls
	ruhe
LOCATION:ZKM - Lorenzstraße 19\, 76135 Karlsruhe
STATUS:CONFIRMED
CATEGORIES:Austausch,Mitmachen
X-ALT-DESC;FMTTYPE=text/html:<p><strong>In der Medialounge des ZKM veransta
	ltet das Medienkompetenz Team e.V. zusammen mit dem </strong><a target="_b
	lank" href="https://entropia.de/"><strong>Entropia e.V.</strong></a><stron
	g> und dem </strong><a target="_blank" href="https://www.mensch-und-techni
	k.kit.edu/index.php"><strong>KIT-Zentrum Mensch und Technik</strong></a><s
	trong> am 19.04.2026 von 12-16 Uhr den nächsten Digital Independence Day i
	n Karlsruhe. Der <a target="_blank" href="http://DI.Day">DI.Day</a> starte
	t mit einer kurzen Einführung in das Thema digitale Unabhängigkeit. Im Ans
	chluss können Erfahrungen ausgetauscht werden und an zahlreichen Stationen
	 alternative Lösungen ausprobiert werden:</strong></p>
BEGIN:VALARM
ACTION:DISPLAY
DESCRIPTION:Digital Independence Day Karlsruhe
TRIGGER:-PT1H
END:VALARM
END:VEVENT
END:VCALENDAR
