BEGIN:VCALENDAR
VERSION:2.0
CALSCALE:GREGORIAN
PRODID:adamgibbons/ics
METHOD:PUBLISH
X-PUBLISHED-TTL:PT1H
BEGIN:VEVENT
UID:298@events.karlsruhe-social.de
SUMMARY:Delta Real Ensemble
DTSTAMP:20260421T183707Z
DTSTART:20260718T180000Z
DTEND:20260719T210000Z
DESCRIPTION:: Point of no Return\n\nAtemnot\, Dürre\, endlose Hitze – ist d
	ies das Ende der bewohnbaren Erde\, oder\ngibt es noch Hoffnung auf einen 
	„Planeten B“?\n\nMit „ : Point of no Return“ präsentiert das Ensemble Delt
	a Real\n[https://deltarealensemble.de/] ein innovatives Konzertformat\, da
	s klassische\nMusik und Live-Elektronik in Szene setzt und ein interaktive
	s Gesamterlebnis\nschafft. Während der Performance sitzt das Publikum im R
	aum verteilt und kann\nden Verlauf der Aufführung beeinflussen\, indem es 
	Fragen an Charaktere der\nzukunft stellt.\n\nDie Musik\, die die Handlung 
	trägt\, kombiniert zeitgenössiche Musik mit\ngenreübergreifende Musik der 
	Jahrhunderte\, während die Live-Elektronik\nfuturistische Klanglandschafte
	n auditiv erlebbar macht. Neben der\nAuseinandersetzung mit den Folgen des
	 Klimawandel behandelt die Aufführung auch\nFragen zum Verhältnis des Mens
	chen zu Religion\, Wissenschaft und der Rolle\nKünstlicher Intelligenz. Di
	eses Format richtet sich an ein vielfältiges\nPublikum\, das bereit für ei
	n multisensorisches Konzerterlebnis ist.\n\nIn einem anschließenden Diskus
	sionsformat lassen wir die Wissenschaft sprechen\nund öfffnen Räume für Re
	flexion und Handlungsmut.\n\n19:30 Einlass\n20:00 Beginn\n\n\nFlötistinHen
	rike FröhlichPianistinMagdalena WolfahrtSängerinJulika\nHingSängerinCarlot
	ta Lipski
URL:https://events.karlsruhe-social.de/event/delta-real-ensemble
GEO:49.0135;8.35882
LOCATION:Kulturzentrum Tempel - Kulturverein Tempel e.V. im Kulturzentrum T
	empel Hardtstraße 37 A D-76185 Karlsruhe
STATUS:CONFIRMED
CATEGORIES:#KeepKarlsruheBoring
X-ALT-DESC;FMTTYPE=text/html:<p><strong>: Point of no Return</strong></p><p
	>Atemnot, Dürre, endlose Hitze – ist dies das Ende der bewohnbaren Erde, o
	der gibt es noch Hoffnung auf einen „Planeten B“?</p><p>Mit „<strong> : Po
	int of no Return</strong>“ präsentiert das Ensemble <a target="_blank" hre
	f="https://deltarealensemble.de/"><strong><u>Delta Real</u></strong></a> e
	in innovatives Konzertformat, das klassische Musik und Live-Elektronik in 
	Szene setzt und ein interaktives Gesamterlebnis schafft. Während der Perfo
	rmance sitzt das Publikum im Raum verteilt und kann den Verlauf der Auffüh
	rung beeinflussen, indem es Fragen an Charaktere der zukunft stellt.</p><p
	>Die Musik, die die Handlung trägt, kombiniert zeitgenössiche Musik mit ge
	nreübergreifende Musik der Jahrhunderte, während die Live-Elektronik futur
	istische Klanglandschaften auditiv erlebbar macht. Neben der Auseinanderse
	tzung mit den Folgen des Klimawandel behandelt die Aufführung auch Fragen 
	zum Verhältnis des Menschen zu Religion, Wissenschaft und der Rolle Künstl
	icher Intelligenz. Dieses Format richtet sich an ein vielfältiges Publikum
	, das bereit für ein multisensorisches Konzerterlebnis ist.</p><p>In einem
	 anschließenden Diskussionsformat lassen wir die Wissenschaft sprechen und
	 öfffnen Räume für Reflexion und Handlungsmut.</p><p>19:30 Einlass<br>20:0
	0 Beginn<br></p><p>FlötistinHenrike FröhlichPianistinMagdalena WolfahrtSän
	gerinJulika HingSängerinCarlotta Lipski</p>
BEGIN:VALARM
ACTION:DISPLAY
DESCRIPTION:Delta Real Ensemble
TRIGGER:-PT1H
END:VALARM
END:VEVENT
END:VCALENDAR
