BEGIN:VCALENDAR
VERSION:2.0
CALSCALE:GREGORIAN
PRODID:adamgibbons/ics
METHOD:PUBLISH
X-PUBLISHED-TTL:PT1H
BEGIN:VEVENT
UID:284@events.karlsruhe-social.de
SUMMARY:Cafe Noir + Pasta-Montag
DTSTAMP:20260420T120034Z
DTSTART:20260427T130000Z
DTEND:20260427T170000Z
DESCRIPTION:Am Montag ist das Cafè Noir wie gewohnt geöffnet. Zudem gibt's 
	was zum\nschlemmen. Wem hungrig nach Gemeinschaft ist\, kommt rum. Auf nen
	 Kaffee\, Tee\,\nSoftdrink und ab 17uhr gibt's lecka PASTAAAAAA English: T
	he Cafè Noir is open as\nusual on Monday. There is cofee\, tea\, drinks\,.
	.. From 5 p.m. there will be pasta\nwith sauce for a donation. Infos zur B
	arrierefreiheit: Das Café Noir ist\nebenerdig zugänglich. Eine barrierefre
	ie Toilette steht zur Verfügung. Es stehen\nverschiedene Sitzgelegenheiten
	 zur Verfügung. Das Café Noir ist über die\nHaltestellen Windeckstraße und
	 Hardecksiedlung zu erreichen. Wenn du\nUnterstützung bei der Anreise oder
	 Gestaltung deines Besuchs haben möchtest\,\nschreibe uns gerne eine Mail 
	an: cafe-noir@riseup.net
URL:https://events.karlsruhe-social.de/event/cafe-noir-pasta-montag
LOCATION:Café Noir - Schauenburgstr. 5\, 76135 Karlsruhe
STATUS:CONFIRMED
CATEGORIES:#KeepKarlsruheBoring
X-ALT-DESC;FMTTYPE=text/html:Am Montag ist das Cafè Noir wie gewohnt geöffn
	et.<br>Zudem gibt's was zum schlemmen.<br>Wem hungrig nach Gemeinschaft is
	t, kommt rum. Auf nen Kaffee, Tee, Softdrink und ab 17uhr gibt's lecka PAS
	TAAAAAA<br><br>English:<br>The Cafè Noir is open as usual on Monday. There
	 is cofee, tea, drinks,...<br>From 5 p.m. there will be pasta with sauce f
	or a donation.<br><br>Infos zur Barrierefreiheit:<br><br>Das Café Noir ist
	 ebenerdig zugänglich. Eine barrierefreie Toilette steht zur Verfügung. Es
	 stehen verschiedene Sitzgelegenheiten zur Verfügung.<br><br>Das Café Noir
	 ist über die Haltestellen Windeckstraße und Hardecksiedlung zu erreichen.
	<br><br>Wenn du Unterstützung bei der Anreise oder Gestaltung deines Besuc
	hs haben möchtest, schreibe uns gerne eine Mail an: cafe-noir@riseup.net
BEGIN:VALARM
ACTION:DISPLAY
DESCRIPTION:Cafe Noir + Pasta-Montag
TRIGGER:-PT1H
END:VALARM
END:VEVENT
END:VCALENDAR
