BEGIN:VCALENDAR
VERSION:2.0
CALSCALE:GREGORIAN
PRODID:adamgibbons/ics
METHOD:PUBLISH
X-PUBLISHED-TTL:PT1H
BEGIN:VEVENT
UID:279@events.karlsruhe-social.de
SUMMARY:Ausstellung CC Hennix: One Dark\, Two Darks
DTSTAMP:20260420T121040Z
DTSTART:20260710T090000Z
DTEND:20261115T180000Z
DESCRIPTION:Die Ausstellung One Darks\, Two Darks im Badischen Kunstverein 
	Karlsruhe widmet\nsich der Avantgarde-Komponistin\, bildenden Künstlerin\,
	 Dichterin und\nMathematikerin Catherine Christer Hennix (1948–2023). Die 
	Retrospektive würdigt\ndie Pionierleistung der schwedischen Künstlerin zwi
	schen Kunst und Musik und\nmacht ihr Werk in Installationen\, Skulpturen\,
	 „Sound Pieces“ und literarischen\nArbeiten erstmals umfassend in Deutschl
	and sichtbar. Hennix' raumgreifende\nInstallationen übersetzen Komposition
	en in räumliche Erfahrungen. Die\nAusstellung lädt Besucherinnen und Besuc
	her ein\, Licht\, Klang und Vibration als\nmeditative Elemente wahrzunehme
	n. Ein Veranstaltungsprogramm mit Vorträgen\,\nKonzerten und Workshops beg
	leitet die Ausstellung. Zu den internationalen\nKooperationspartnern zähle
	n die schwedische Konsthall Malmö sowie die\npublizistische Plattform „Bla
	nk Forms“ aus New York.
URL:https://events.karlsruhe-social.de/event/ausstellung-cc-hennix-one-dark
	-two-darks
GEO:49.011;8.3999
LOCATION:Badischer Kunstverein - Waldstraße 3\, 76133 Karlsruhe
STATUS:CONFIRMED
CATEGORIES:#KeepKarlsruheBoring,Art
X-ALT-DESC;FMTTYPE=text/html:<p>Die Ausstellung <em>One Darks, Two Darks</e
	m> im Badischen Kunstverein Karlsruhe widmet sich der Avantgarde-Komponist
	in, bildenden Künstlerin, Dichterin und Mathematikerin Catherine Christer 
	Hennix (1948–2023). Die Retrospektive würdigt die Pionierleistung der schw
	edischen Künstlerin zwischen Kunst und Musik und macht ihr Werk in Install
	ationen, Skulpturen, „Sound Pieces“ und literarischen Arbeiten erstmals um
	fassend in Deutschland sichtbar. Hennix' raumgreifende Installationen über
	setzen Kompositionen in räumliche Erfahrungen. Die Ausstellung lädt Besuch
	erinnen und Besucher ein, Licht, Klang und Vibration als meditative Elemen
	te wahrzunehmen. Ein Veranstaltungsprogramm mit Vorträgen, Konzerten und W
	orkshops begleitet die Ausstellung. Zu den internationalen Kooperationspar
	tnern zählen die schwedische Konsthall Malmö sowie die publizistische Plat
	tform „Blank Forms“ aus New York. </p>
BEGIN:VALARM
ACTION:DISPLAY
DESCRIPTION:Ausstellung CC Hennix: One Dark, Two Darks
TRIGGER:-PT1H
END:VALARM
END:VEVENT
END:VCALENDAR
